BEGIN:VCALENDAR
VERSION:2.0
PRODID:-//City of Bend - ECPv6.15.20//NONSGML v1.0//EN
CALSCALE:GREGORIAN
METHOD:PUBLISH
X-ORIGINAL-URL:https://bendoregon.gov
X-WR-CALDESC:Events for City of Bend
REFRESH-INTERVAL;VALUE=DURATION:PT1H
X-Robots-Tag:noindex
X-PUBLISHED-TTL:PT1H
BEGIN:VTIMEZONE
TZID:America/Los_Angeles
BEGIN:DAYLIGHT
TZOFFSETFROM:-0800
TZOFFSETTO:-0700
TZNAME:PDT
DTSTART:20230312T100000
END:DAYLIGHT
BEGIN:STANDARD
TZOFFSETFROM:-0700
TZOFFSETTO:-0800
TZNAME:PST
DTSTART:20231105T090000
END:STANDARD
BEGIN:DAYLIGHT
TZOFFSETFROM:-0800
TZOFFSETTO:-0700
TZNAME:PDT
DTSTART:20240310T100000
END:DAYLIGHT
BEGIN:STANDARD
TZOFFSETFROM:-0700
TZOFFSETTO:-0800
TZNAME:PST
DTSTART:20241103T090000
END:STANDARD
BEGIN:DAYLIGHT
TZOFFSETFROM:-0800
TZOFFSETTO:-0700
TZNAME:PDT
DTSTART:20250309T100000
END:DAYLIGHT
BEGIN:STANDARD
TZOFFSETFROM:-0700
TZOFFSETTO:-0800
TZNAME:PST
DTSTART:20251102T090000
END:STANDARD
BEGIN:DAYLIGHT
TZOFFSETFROM:-0800
TZOFFSETTO:-0700
TZNAME:PDT
DTSTART:20260308T100000
END:DAYLIGHT
BEGIN:STANDARD
TZOFFSETFROM:-0700
TZOFFSETTO:-0800
TZNAME:PST
DTSTART:20261101T090000
END:STANDARD
END:VTIMEZONE
BEGIN:VEVENT
DTSTART;TZID=America/Los_Angeles:20251209T130000
DTEND;TZID=America/Los_Angeles:20251209T150000
DTSTAMP:20260424T095133
CREATED:20251215T193725Z
LAST-MODIFIED:20251215T193725Z
UID:10004112-1765285200-1765292400@bendoregon.gov
SUMMARY:Hearings Officer Public Hearing - PLCPMA20250192
DESCRIPTION:The meeting convenes at 1:00PM on a hybrid\, in-person and virtual Zoom platform. \nJoin the meeting using the following options: \nIn-person location: City Hall\, Council Chambers\, 710 NW Wall Street\, Bend\, OR 97703 \nRegister via Zoom Online Meeting Link: https://bendoregon-gov.zoom.us/webinar/register/WN_cH03Dc86TH2ZFIJwLWP-qQ \nYou can also copy and paste the Zoom link into your browser. \nCall in Phone Number:1- 888-788-0099 \nWebinar ID: 894 0299 6533 \nPasscode: 992079 \nThe public is invited to watch on-line at: YouTube link: https://youtube.com/live/K59zGK8gBQ8?feature=share \nPlease click to view the meeting agenda: Hearings Officer Agenda PLCPMA20250192
URL:https://bendoregon.gov/event/hearings-officer-public-hearing-plcpma20250192/
CATEGORIES:Hearings Officer
END:VEVENT
BEGIN:VEVENT
DTSTART;TZID=America/Los_Angeles:20250915T140000
DTEND;TZID=America/Los_Angeles:20250915T160000
DTSTAMP:20260424T095133
CREATED:20251210T232852Z
LAST-MODIFIED:20251210T232852Z
UID:10004031-1757944800-1757952000@bendoregon.gov
SUMMARY:Hearings Officer Public Hearing for PLCPMA20250298
DESCRIPTION:The meeting convenes at 2:00PM on a hybrid\, in-person and virtual Zoom platform. \nJoin the meeting using the following options: \nIn-person location: City Hall\, Council Chambers\, 710 NW Wall Street\, Bend\, OR 97703 \nRegister via Zoom Online Meeting Link: https://bendoregon-gov.zoom.us/webinar/register/WN_J6lXCDDSQMajXLCbulMMHw \nYou can also copy and paste the Zoom link into your browser. \nCall in Phone Number:1- 888-788-0099 \nWebinar ID: 865 3286 6708 \nPasscode: 321775 \nThe public is invited to watch on-line at: YouTube link https://youtube.com/live/ZIlXdbYXLH0?feature=share \nPlease click to view the meeting agenda: Hearings Officer Agenda 09.15.25
URL:https://bendoregon.gov/event/hearings-officer-public-hearing-for-plcpma20250298/
LOCATION:Council Chambers (City Hall)\, 710 NW Wall St\, Bend\, 97703\, United States
CATEGORIES:Hearings Officer
END:VEVENT
BEGIN:VEVENT
DTSTART;TZID=America/Los_Angeles:20250521T140000
DTEND;TZID=America/Los_Angeles:20250521T160000
DTSTAMP:20260424T095133
CREATED:20251210T232507Z
LAST-MODIFIED:20251210T232507Z
UID:10003956-1747836000-1747843200@bendoregon.gov
SUMMARY:Hearings Officer Public Hearing - PLSPR20240567
DESCRIPTION:Wednesday\, May 21\, 2025 \nThe hearing convenes at 2:00 PM on a hybrid\, in-person and virtual Zoom platform. \nJoin the meeting using the following options: \nIn-person location: City Hall\, Council Chambers\, 710 NW Wall Street\, Bend\, OR 97703 \nFor attendees who wish to participate online\, register by clicking the Zoom link below to receive a link to the meeting.  \nYou can also copy and paste the Zoom link into your browser. \nZoom Online Meeting Link: https://bendoregon-gov.zoom.us/webinar/register/WN_WFecvRigRVOXPMQ39a8yHA \nCall-in Phone Number: 1-888-788-0099 \nWebinar ID: 851 1547 9261 \nPasscode:   964576 \nThe public is invited to watch online via Youtube: https://youtube.com/live/0mR3-qU3O08?feature=share \nThis link can also be accessed via the City of Bend Hearings Officer webpage:Hearings Officer | City of Bend \nHearing Agenda: PLSPR20240567 Hearings Officer Agenda 5.21.25
URL:https://bendoregon.gov/event/hearings-officer-public-hearing-plspr20240567/
LOCATION:Council Chambers (City Hall)\, 710 NW Wall St\, Bend\, 97703\, United States
CATEGORIES:Hearings Officer
END:VEVENT
BEGIN:VEVENT
DTSTART;TZID=America/Los_Angeles:20250521T113000
DTEND;TZID=America/Los_Angeles:20250521T133000
DTSTAMP:20260424T095133
CREATED:20251210T232452Z
LAST-MODIFIED:20251210T232452Z
UID:10003955-1747827000-1747834200@bendoregon.gov
SUMMARY:Hearings Officer Public Hearing - PLSPR20240566
DESCRIPTION:Wednesday\, May 21\, 2025 \nThe hearing convenes at 11:30 AM on a hybrid\, in-person and virtual Zoom platform. \nJoin the meeting using the following options: \nIn-person location: City Hall\, Council Chambers\, 710 NW Wall Street\, Bend\, OR 97703 \nFor attendees who wish to participate online\, register by clicking the Zoom link below to receive a link to the meeting.  \nYou can also copy and paste the Zoom link into your browser. \nZoom Online Meeting Link: https://bendoregon-gov.zoom.us/webinar/register/WN_CthoqJRkRJCkkiqR_eXA_g \nCall-in Phone Number: 1-888-788-0099 \nWebinar ID: 862 1164 8095 \nPasscode:  001522  \nThe public is invited to watch online via Youtube: https://youtube.com/live/JF4-jd7_g-A?feature=share \nThis link can also be accessed via the City of Bend Hearings Officer webpage:Hearings Officer | City of Bend \nHearing Agenda: PLSPR20240566  Hearings Officer Agenda 5.21.25
URL:https://bendoregon.gov/event/hearings-officer-public-hearing-plspr20240566/
LOCATION:Council Chambers (City Hall)\, 710 NW Wall St\, Bend\, 97703\, United States
CATEGORIES:Hearings Officer
END:VEVENT
BEGIN:VEVENT
DTSTART;TZID=America/Los_Angeles:20250408T113000
DTEND;TZID=America/Los_Angeles:20250408T143000
DTSTAMP:20260424T095133
CREATED:20251210T232322Z
LAST-MODIFIED:20251210T232322Z
UID:10003924-1744111800-1744122600@bendoregon.gov
SUMMARY:Hearings Officer Public Hearing - PLSPR20240641
DESCRIPTION:Tuesday\, April 8\, 2025 \nThe hearing convenes at 11:30 AM on a hybrid\, in-person and virtual Zoom platform. \nJoin the meeting using the following options: \nIn-person location: City Hall\, Council Chambers\, 710 NW Wall Street\, Bend\, OR 97703 \nFor attendees who wish to participate online\, register by clicking the Zoom link below to receive a link to the meeting. You can also copy and paste the Zoom link into your browser. \nZoom Online Meeting Link:  \nhttps://bendoregon-gov.zoom.us/webinar/register/WN_YP0UZ3QuR7GA8bLF58FJUw \nCall-in Phone Number: 1-888-788-0099 \nWebinar ID: 845 6745 7384 \nPasscode:   568869 \nThe public is invited to watch online via Zoom: https://bendoregon-gov.zoom.us/rec/share/xtan8ggh5cSGhJAYpKC9n_AnXm9LiBLs4S-7kxdflintMIC40nD-FYjvQlGtb0-k.fqY3nRvPzUbUOi15  \nThis link can also be accessed via the City of Bend Hearings Officer webpage:Hearings Officer | City of Bend \nHearings Officer Agenda 4.8.2025
URL:https://bendoregon.gov/event/hearings-officer-public-hearing-plspr20240641/
LOCATION:Council Chambers (City Hall)\, 710 NW Wall St\, Bend\, 97703\, United States
CATEGORIES:Hearings Officer
END:VEVENT
BEGIN:VEVENT
DTSTART;TZID=America/Los_Angeles:20250226T120000
DTEND;TZID=America/Los_Angeles:20250226T133000
DTSTAMP:20260424T095133
CREATED:20251210T232137Z
LAST-MODIFIED:20251210T232137Z
UID:10003890-1740571200-1740576600@bendoregon.gov
SUMMARY:Hearings Officer Public Hearing - Appeal of Middle Housing Land Division PLLD20240609
DESCRIPTION:Wednesday\, February 26\, 2025 \nThe hearing will be held virtually\, via Zoom (no in-person component)\, starting at 12:00 p.m. and ending promptly at 1:30 p.m.  \nThe public is invited to watch online via the YouTube link below: https://youtube.com/live/B1ABe_8TcQk?feature=share. This link can also be accessed via the City of Bend Hearings Officer webpage: https://www.bendoregon.gov/departments/community-development/online-permit-center/planning-historic/hearings-officer  \nFor attendees who are entitled to participate in the virtual hearing\, register by clicking the Zoom link below to receive a link to the meeting. You can also copy and paste the Zoom link into your browser. \nZoom Online Meeting Link: https://bendoregon-gov.zoom.us/webinar/register/WN_xK_9ro8hRH2czvfEGP_i2Q  \nCall-in Phone Number: 1-888-788-0099  \nWebinar ID: 829 7468 5355 \nPasscode:   457849 \n Hearings Officer Agenda 2.26.2025 \n 
URL:https://bendoregon.gov/event/hearings-officer-public-hearing-appeal-of-middle-housing-land-division-plld20240609/
CATEGORIES:Hearings Officer
END:VEVENT
BEGIN:VEVENT
DTSTART;TZID=America/Los_Angeles:20241108T100000
DTEND;TZID=America/Los_Angeles:20241108T140000
DTSTAMP:20260424T095133
CREATED:20251210T231737Z
LAST-MODIFIED:20251210T231737Z
UID:10003810-1731060000-1731074400@bendoregon.gov
SUMMARY:CANCELLED: Public Hearing for Rezone Request - PLCPMA20240334
DESCRIPTION:The November 8th Public Hearing has been postponed at the applicant’s request. The city calendar website will be updated when a new hearing has been scheduled. 
URL:https://bendoregon.gov/event/cancelled-public-hearing-for-rezone-request-plcpma20240334/
LOCATION:Council Chambers (City Hall)\, 710 NW Wall St\, Bend\, 97703\, United States
CATEGORIES:Hearings Officer
END:VEVENT
BEGIN:VEVENT
DTSTART;TZID=America/Los_Angeles:20240404T100000
DTEND;TZID=America/Los_Angeles:20240404T140000
DTSTAMP:20260424T095133
CREATED:20251210T230737Z
LAST-MODIFIED:20251210T230737Z
UID:10003614-1712224800-1712239200@bendoregon.gov
SUMMARY:Public Hearing for Compass Corner - PLSPR20230532
DESCRIPTION:The meeting convenes at 10:00am\, at City Hall\, Council Chambers and on a Virtual Meeting Platform \nJoin the meeting using the following options: \nRegister via Zoom Online Meeting Link: https://bendoregon-gov.zoom.us/webinar/register/WN_e_N7ArPHTsOlh9pKjrpsxQ \nJoin by phone: Toll-free:1- 888-788-0099 \nWebinar ID: 885 6671 2788 \nPasscode: 246223 \nThe public is invited to watch on-line at: https://youtube.com/live/1DWDxipkDc0?feature=share \nThe application\, plans\, documents\, and other evidence submitted by or on behalf of the applicant can be viewed using the following link to access the projects directly: \nPLSPR20230532: https://cityview.ci.bend.or.us/Portal/Planning/Status?planningId=27748 
URL:https://bendoregon.gov/event/public-hearing-for-compass-corner-plspr20230532/
LOCATION:Council Chambers (City Hall)\, 710 NW Wall St\, Bend\, 97703\, United States
CATEGORIES:Hearings Officer
END:VEVENT
BEGIN:VEVENT
DTSTART;TZID=America/Los_Angeles:20240124T133000
DTEND;TZID=America/Los_Angeles:20240124T170000
DTSTAMP:20260424T095133
CREATED:20251210T230355Z
LAST-MODIFIED:20251210T230355Z
UID:10003558-1706103000-1706115600@bendoregon.gov
SUMMARY:Public Hearing for Alexander Court - PLLD20230633 & PLMISC20230696
DESCRIPTION:The meeting convenes at 1:30PM at City Hall\, Council Chambers and on a Virtual Meeting Platform \nJoin the meeting using the following options: \nRegister via Zoom Online Meeting Link: https://bendoregon-gov.zoom.us/webinar/register/WN_agEgVuG0SR6H7UDCcDnhRQ \nJoin by phone: Toll-free:1- 888-788-0099 \nWebinar ID: 868 0398 5439 \nPasscode: 889958 \nThe public is invited to watch on-line at: https://youtube.com/live/GeQgrgoF500?feature=share  \nThe application\, plans\, documents\, and other evidence submitted by or on behalf of the applicant can be viewed using the following link to access the projects directly: \nPLLD20230633: https://cityview.ci.bend.or.us/Portal/Planning/Status?planningId=27850  \nPLMISC20230696: https://cityview.ci.bend.or.us/Portal/Planning/Status?planningId=27913
URL:https://bendoregon.gov/event/public-hearing-for-alexander-court-plld20230633-plmisc20230696/
LOCATION:Council Chambers (City Hall)\, 710 NW Wall St\, Bend\, 97703\, United States
CATEGORIES:Hearings Officer
END:VEVENT
END:VCALENDAR