BEGIN:VCALENDAR
VERSION:2.0
PRODID:-//City of Bend - ECPv6.15.20//NONSGML v1.0//EN
CALSCALE:GREGORIAN
METHOD:PUBLISH
X-WR-CALNAME:City of Bend
X-ORIGINAL-URL:https://bendoregon.gov
X-WR-CALDESC:Events for City of Bend
REFRESH-INTERVAL;VALUE=DURATION:PT1H
X-Robots-Tag:noindex
X-PUBLISHED-TTL:PT1H
BEGIN:VTIMEZONE
TZID:America/Los_Angeles
BEGIN:DAYLIGHT
TZOFFSETFROM:-0800
TZOFFSETTO:-0700
TZNAME:PDT
DTSTART:20240310T100000
END:DAYLIGHT
BEGIN:STANDARD
TZOFFSETFROM:-0700
TZOFFSETTO:-0800
TZNAME:PST
DTSTART:20241103T090000
END:STANDARD
BEGIN:DAYLIGHT
TZOFFSETFROM:-0800
TZOFFSETTO:-0700
TZNAME:PDT
DTSTART:20250309T100000
END:DAYLIGHT
BEGIN:STANDARD
TZOFFSETFROM:-0700
TZOFFSETTO:-0800
TZNAME:PST
DTSTART:20251102T090000
END:STANDARD
BEGIN:DAYLIGHT
TZOFFSETFROM:-0800
TZOFFSETTO:-0700
TZNAME:PDT
DTSTART:20260308T100000
END:DAYLIGHT
BEGIN:STANDARD
TZOFFSETFROM:-0700
TZOFFSETTO:-0800
TZNAME:PST
DTSTART:20261101T090000
END:STANDARD
END:VTIMEZONE
BEGIN:VEVENT
DTSTART;TZID=America/Los_Angeles:20251209T130000
DTEND;TZID=America/Los_Angeles:20251209T150000
DTSTAMP:20260425T035608
CREATED:20251215T193725Z
LAST-MODIFIED:20251215T193725Z
UID:10004112-1765285200-1765292400@bendoregon.gov
SUMMARY:Hearings Officer Public Hearing - PLCPMA20250192
DESCRIPTION:The meeting convenes at 1:00PM on a hybrid\, in-person and virtual Zoom platform. \nJoin the meeting using the following options: \nIn-person location: City Hall\, Council Chambers\, 710 NW Wall Street\, Bend\, OR 97703 \nRegister via Zoom Online Meeting Link: https://bendoregon-gov.zoom.us/webinar/register/WN_cH03Dc86TH2ZFIJwLWP-qQ \nYou can also copy and paste the Zoom link into your browser. \nCall in Phone Number:1- 888-788-0099 \nWebinar ID: 894 0299 6533 \nPasscode: 992079 \nThe public is invited to watch on-line at: YouTube link: https://youtube.com/live/K59zGK8gBQ8?feature=share \nPlease click to view the meeting agenda: Hearings Officer Agenda PLCPMA20250192
URL:https://bendoregon.gov/event/hearings-officer-public-hearing-plcpma20250192/
CATEGORIES:Hearings Officer
END:VEVENT
END:VCALENDAR