BEGIN:VCALENDAR
VERSION:2.0
PRODID:-//City of Bend - ECPv6.15.20//NONSGML v1.0//EN
CALSCALE:GREGORIAN
METHOD:PUBLISH
X-WR-CALNAME:City of Bend
X-ORIGINAL-URL:https://bendoregon.gov
X-WR-CALDESC:Events for City of Bend
REFRESH-INTERVAL;VALUE=DURATION:PT1H
X-Robots-Tag:noindex
X-PUBLISHED-TTL:PT1H
BEGIN:VTIMEZONE
TZID:America/Los_Angeles
BEGIN:DAYLIGHT
TZOFFSETFROM:-0800
TZOFFSETTO:-0700
TZNAME:PDT
DTSTART:20240310T100000
END:DAYLIGHT
BEGIN:STANDARD
TZOFFSETFROM:-0700
TZOFFSETTO:-0800
TZNAME:PST
DTSTART:20241103T090000
END:STANDARD
BEGIN:DAYLIGHT
TZOFFSETFROM:-0800
TZOFFSETTO:-0700
TZNAME:PDT
DTSTART:20250309T100000
END:DAYLIGHT
BEGIN:STANDARD
TZOFFSETFROM:-0700
TZOFFSETTO:-0800
TZNAME:PST
DTSTART:20251102T090000
END:STANDARD
BEGIN:DAYLIGHT
TZOFFSETFROM:-0800
TZOFFSETTO:-0700
TZNAME:PDT
DTSTART:20260308T100000
END:DAYLIGHT
BEGIN:STANDARD
TZOFFSETFROM:-0700
TZOFFSETTO:-0800
TZNAME:PST
DTSTART:20261101T090000
END:STANDARD
END:VTIMEZONE
BEGIN:VEVENT
DTSTART;TZID=America/Los_Angeles:20250827T130000
DTEND;TZID=America/Los_Angeles:20250827T160000
DTSTAMP:20260424T181053
CREATED:20251210T232807Z
LAST-MODIFIED:20251210T232807Z
UID:10004016-1756299600-1756310400@bendoregon.gov
SUMMARY:Housing Options Made for Everyone (HOME) Committee Meeting
DESCRIPTION:The HOME Committee will conduct a meeting virtually through Zoom and in person in the Council Chambers at 710 NW Wall Street\, Bend\, OR 97703 on August 27\, 2025\, from 1:00 p.m. to 2:30 p.m. \nAgenda\nTo attend via Zoom\nPreregister at https://bendoregon-gov.zoom.us/j/83369969004?pwd=4SbiTjHuRxvMuzai4uEj2b8sNJBgS6.1  \nTo attend by phone:\n(No pre-registration required) \n\nCall-in Phone Number: 1-888-788-0099\nWebinar ID:833 6996 9004\nPasscode: 652832\n\nTo view on YouTube:\nhttps://youtube.com/live/vquRknXGfdE?feature=share \nTechnical difficulties: \nCall 541-410-9341. \nWritten public comment:\n Submit to cogren@bendoregon.gov by 3:00p.m. on 1/26/2025. \nFor additional information:\nPlease contact Chis Ogren\, Project Manager\, cogren@bendorgon.gov
URL:https://bendoregon.gov/event/housing-options-made-for-everyone-home-committee-meeting/
LOCATION:Council Chambers (City Hall)\, 710 NW Wall St\, Bend\, 97703\, United States
CATEGORIES:Housing Options Made for Everyone
END:VEVENT
END:VCALENDAR