BEGIN:VCALENDAR
VERSION:2.0
PRODID:-//City of Bend - ECPv6.15.20//NONSGML v1.0//EN
CALSCALE:GREGORIAN
METHOD:PUBLISH
X-WR-CALNAME:City of Bend
X-ORIGINAL-URL:https://bendoregon.gov
X-WR-CALDESC:Events for City of Bend
REFRESH-INTERVAL;VALUE=DURATION:PT1H
X-Robots-Tag:noindex
X-PUBLISHED-TTL:PT1H
BEGIN:VTIMEZONE
TZID:America/Los_Angeles
BEGIN:DAYLIGHT
TZOFFSETFROM:-0800
TZOFFSETTO:-0700
TZNAME:PDT
DTSTART:20240310T100000
END:DAYLIGHT
BEGIN:STANDARD
TZOFFSETFROM:-0700
TZOFFSETTO:-0800
TZNAME:PST
DTSTART:20241103T090000
END:STANDARD
BEGIN:DAYLIGHT
TZOFFSETFROM:-0800
TZOFFSETTO:-0700
TZNAME:PDT
DTSTART:20250309T100000
END:DAYLIGHT
BEGIN:STANDARD
TZOFFSETFROM:-0700
TZOFFSETTO:-0800
TZNAME:PST
DTSTART:20251102T090000
END:STANDARD
BEGIN:DAYLIGHT
TZOFFSETFROM:-0800
TZOFFSETTO:-0700
TZNAME:PDT
DTSTART:20260308T100000
END:DAYLIGHT
BEGIN:STANDARD
TZOFFSETFROM:-0700
TZOFFSETTO:-0800
TZNAME:PST
DTSTART:20261101T090000
END:STANDARD
BEGIN:DAYLIGHT
TZOFFSETFROM:-0800
TZOFFSETTO:-0700
TZNAME:PDT
DTSTART:20270314T100000
END:DAYLIGHT
BEGIN:STANDARD
TZOFFSETFROM:-0700
TZOFFSETTO:-0800
TZNAME:PST
DTSTART:20271107T090000
END:STANDARD
END:VTIMEZONE
BEGIN:VEVENT
DTSTART;TZID=America/Los_Angeles:20260402T133000
DTEND;TZID=America/Los_Angeles:20260402T163000
DTSTAMP:20260424T033048
CREATED:20251215T193831Z
LAST-MODIFIED:20260401T193546Z
UID:10004135-1775136600-1775147400@bendoregon.gov
SUMMARY:Housing Options Made for Everyone Committee Meeting
DESCRIPTION:For more information on the Home Options Made for Everyone Committee\, check out the HOME website\nMEETING NOTICE\nThe Home Options Made for Everyone (HOME) Committee will conduct a meeting virtually through Zoom and in person in Council Chambers at 710 NW Wall Street\, Bend\, OR 97703 on Thursday\, April 2nd\, 2026\, from 1:30 to 4:30 p.m. \nAll Committee meeting information\, to include how to attend virtually\, can be found in the posted agenda and on the HOME website.
URL:https://bendoregon.gov/event/housing-options-made-for-everyone-committee-meeting-2/
LOCATION:City Council Chambers\, Bend City Hall\, 710 NW Wall\, Bend\, United States
CATEGORIES:Housing Options Made for Everyone
END:VEVENT
BEGIN:VEVENT
DTSTART;TZID=America/Los_Angeles:20260212T133000
DTEND;TZID=America/Los_Angeles:20260212T163000
DTSTAMP:20260424T033048
CREATED:20260129T193845Z
LAST-MODIFIED:20260210T221450Z
UID:10004369-1770903000-1770913800@bendoregon.gov
SUMMARY:Housing Options Made for Everyone Committee Meeting
DESCRIPTION:For more information on the Home Options Made for Everyone Committee\, check out the HOME website\nMEETING NOTICE\nThe Home Options Made for Everyone (HOME) Committee will conduct a meeting virtually through Zoom and in person in Council Chambers at 710 NW Wall Street\, Bend\, OR 97703 on Thursday\, February 12th\, 2026\, from 1:30 to 4:30 p.m. \nRegular Attendees-Zoom Link:  \n\nHousing Options Made for Everyone Zoom Link – HOME Committee Zoom Link\n\nTo Attend by Phone: \n\nToll Free Call-in Number:  1-888-788-0099\nWebinar ID: 837 3948 6255\nPasscode: 108473\n\nLivestream the HOME Committee Meeting: \n YouTube Livestream Link \nAccessible Meeting Information \nThis meeting/event location is accessible. Sign language interpreter service\, assistive listening devices\, materials in alternate format such as Braille\, large print\, electronic formats\, or any other accommodations are available upon advance request. Please contact Misty Driggers no later than 24 hours in advance at  ckerr@bendoregon.gov or call 541-388-5505; Relay Users Dial 7-1-1. Providing at least 3 days’ notice prior to the event will help ensure availability.
URL:https://bendoregon.gov/event/housing-options-made-for-everyone-committee-meeting-4/
LOCATION:Bend City Hall – Council Chambers\, 710 NW Wall St.\, Bend\, 97701\, United States
CATEGORIES:Housing Options Made for Everyone
END:VEVENT
BEGIN:VEVENT
DTSTART;TZID=America/Los_Angeles:20251113T133000
DTEND;TZID=America/Los_Angeles:20251113T163000
DTSTAMP:20260424T033048
CREATED:20251210T233152Z
LAST-MODIFIED:20251210T233152Z
UID:10004093-1763040600-1763051400@bendoregon.gov
SUMMARY:Housing Options Made for Everyone Committee Meeting
DESCRIPTION:For more information on the Home Options Made for Everyone Committee\, check out the HOME website\nMEETING NOTICE\nThe Home Options Made for Everyone (HOME) Committee will conduct a meeting virtually through Zoom and in person in at the new Public Works Campus in the Prowell Springs Conference Room\, 21051 NE Talus Place\, Bend\, OR 97701\, on Thursday\, November 13th\, 2025\, from 1:30 to 4:30 p.m. \nFor Committee Members and City Staff: \nYou will receive a Zoom email confirmation with a personal link/information to connect via computer or phone. \nRegular Attendees-Zoom Link:  \n\nHousing Options Made for Everyone Zoom Link\n Webinar ID:  896 7806 2678\n Passcode: 108473\n\nTo Attend by Phone: \n\nToll Free Call-in Number: +1 888 788 0099\nCall-in Phone Number: +1 253 215 8782 \n\nYouTube: Livestream the HOME Committee Meeting here \nTechnical Difficulties Connecting to this Meeting: Call 541-410-9341. \nAccessible Meeting Information \nThis meeting/event location is accessible. Sign language interpreter service\, assistive listening devices\, materials in alternate format such as Braille\, large print\, electronic formats\, or any other accommodations are available upon advance request. Please contact Misty Driggers no later than 24 hours in advance at ckerr@bendoregon.gov or call 541-388-5505; Relay Users Dial 7-1-1. Providing at least 3 days’ notice prior to the event will help ensure availability.
URL:https://bendoregon.gov/event/housing-options-made-for-everyone-committee-meeting-6/
LOCATION:Prowell Springs Conference Room (Public Works Campus)\, United States
CATEGORIES:Housing Options Made for Everyone
END:VEVENT
BEGIN:VEVENT
DTSTART;TZID=America/Los_Angeles:20251002T133000
DTEND;TZID=America/Los_Angeles:20251002T163000
DTSTAMP:20260424T033048
CREATED:20251210T233007Z
LAST-MODIFIED:20251210T233007Z
UID:10004059-1759411800-1759422600@bendoregon.gov
SUMMARY:Housing Options Made for Everyone Committee Meeting
DESCRIPTION:For more information on the Home Options Made for Everyone Committee\, check out the HOME website\nMEETING NOTICE\nThe Home Options Made for Everyone (HOME) Committee will conduct a meeting virtually through Zoom and in person in Council Chambers at 710 NW Wall Street\, Bend\, OR 97703 on Thursday\, October 2nd\, 2025\, from 1:30 to 4:30 p.m. \nFor Committee Members and City Staff: \nYou will receive a Zoom email confirmation with a personal link/information to connect via computer or phone. \nRegular Attendees-Zoom Link:  \n\nHousing Options Made for Everyone Zoom Link\n Webinar ID: 890 7694 6929\n Passcode: 038164\n\nTo Attend by Phone: \n\nToll Free Call-in Number: 1-888-788-0099 \nCall-in Phone Number: +1-669-444-9171\nWebinar ID: 890 7694 6929\nPasscode: 038164\n\nYouTube: Livestream the October 2nd HOME Committee Meeting here \nTechnical Difficulties Connecting to this Meeting: Call 541-410-9341. \nAccessible Meeting Information \nThis meeting/event location is accessible. Sign language interpreter service\, assistive listening devices\, materials in alternate format such as Braille\, large print\, electronic formats\, or any other accommodations are available upon advance request. Please contact Misty Driggers no later than 24 hours in advance at  ckerr@bendoregon.gov or call 541-388-5505; Relay Users Dial 7-1-1. Providing at least 3 days’ notice prior to the event will help ensure availability.
URL:https://bendoregon.gov/event/housing-options-made-for-everyone-committee-meeting-5/
LOCATION:Council Chambers (City Hall)\, 710 NW Wall St\, Bend\, 97703\, United States
CATEGORIES:Housing Options Made for Everyone
END:VEVENT
BEGIN:VEVENT
DTSTART;TZID=America/Los_Angeles:20250827T130000
DTEND;TZID=America/Los_Angeles:20250827T160000
DTSTAMP:20260424T033048
CREATED:20251210T232807Z
LAST-MODIFIED:20251210T232807Z
UID:10004016-1756299600-1756310400@bendoregon.gov
SUMMARY:Housing Options Made for Everyone (HOME) Committee Meeting
DESCRIPTION:The HOME Committee will conduct a meeting virtually through Zoom and in person in the Council Chambers at 710 NW Wall Street\, Bend\, OR 97703 on August 27\, 2025\, from 1:00 p.m. to 2:30 p.m. \nAgenda\nTo attend via Zoom\nPreregister at https://bendoregon-gov.zoom.us/j/83369969004?pwd=4SbiTjHuRxvMuzai4uEj2b8sNJBgS6.1  \nTo attend by phone:\n(No pre-registration required) \n\nCall-in Phone Number: 1-888-788-0099\nWebinar ID:833 6996 9004\nPasscode: 652832\n\nTo view on YouTube:\nhttps://youtube.com/live/vquRknXGfdE?feature=share \nTechnical difficulties: \nCall 541-410-9341. \nWritten public comment:\n Submit to cogren@bendoregon.gov by 3:00p.m. on 1/26/2025. \nFor additional information:\nPlease contact Chis Ogren\, Project Manager\, cogren@bendorgon.gov
URL:https://bendoregon.gov/event/housing-options-made-for-everyone-home-committee-meeting/
LOCATION:Council Chambers (City Hall)\, 710 NW Wall St\, Bend\, 97703\, United States
CATEGORIES:Housing Options Made for Everyone
END:VEVENT
END:VCALENDAR