BEGIN:VCALENDAR
VERSION:2.0
PRODID:-//City of Bend - ECPv6.15.20//NONSGML v1.0//EN
CALSCALE:GREGORIAN
METHOD:PUBLISH
X-WR-CALNAME:City of Bend
X-ORIGINAL-URL:https://bendoregon.gov
X-WR-CALDESC:Events for City of Bend
REFRESH-INTERVAL;VALUE=DURATION:PT1H
X-Robots-Tag:noindex
X-PUBLISHED-TTL:PT1H
BEGIN:VTIMEZONE
TZID:America/Los_Angeles
BEGIN:DAYLIGHT
TZOFFSETFROM:-0800
TZOFFSETTO:-0700
TZNAME:PDT
DTSTART:20210314T100000
END:DAYLIGHT
BEGIN:STANDARD
TZOFFSETFROM:-0700
TZOFFSETTO:-0800
TZNAME:PST
DTSTART:20211107T090000
END:STANDARD
BEGIN:DAYLIGHT
TZOFFSETFROM:-0800
TZOFFSETTO:-0700
TZNAME:PDT
DTSTART:20220313T100000
END:DAYLIGHT
BEGIN:STANDARD
TZOFFSETFROM:-0700
TZOFFSETTO:-0800
TZNAME:PST
DTSTART:20221106T090000
END:STANDARD
BEGIN:DAYLIGHT
TZOFFSETFROM:-0800
TZOFFSETTO:-0700
TZNAME:PDT
DTSTART:20230312T100000
END:DAYLIGHT
BEGIN:STANDARD
TZOFFSETFROM:-0700
TZOFFSETTO:-0800
TZNAME:PST
DTSTART:20231105T090000
END:STANDARD
BEGIN:DAYLIGHT
TZOFFSETFROM:-0800
TZOFFSETTO:-0700
TZNAME:PDT
DTSTART:20240310T100000
END:DAYLIGHT
BEGIN:STANDARD
TZOFFSETFROM:-0700
TZOFFSETTO:-0800
TZNAME:PST
DTSTART:20241103T090000
END:STANDARD
END:VTIMEZONE
BEGIN:VEVENT
DTSTART;TZID=America/Los_Angeles:20230426T163000
DTEND;TZID=America/Los_Angeles:20230426T183000
DTSTAMP:20260424T165832
CREATED:20251205T193820Z
LAST-MODIFIED:20251205T193820Z
UID:10003257-1682526600-1682533800@bendoregon.gov
SUMMARY:CANCELLED: Human Rights and Equity Commission Meeting
DESCRIPTION:
URL:https://bendoregon.gov/event/cancelled-human-rights-and-equity-commission-meeting/
LOCATION:Council Chambers (City Hall)\, 710 NW Wall St\, Bend\, 97703\, United States
CATEGORIES:Human Rights & Equity Commission
END:VEVENT
BEGIN:VEVENT
DTSTART;TZID=America/Los_Angeles:20230418T121500
DTEND;TZID=America/Los_Angeles:20230418T131500
DTSTAMP:20260424T165832
CREATED:20251205T193735Z
LAST-MODIFIED:20251205T193735Z
UID:10003244-1681820100-1681823700@bendoregon.gov
SUMMARY:HREC Subcommittee: Discrimination Reporting and Resources Meeting
DESCRIPTION:Hybrid Meeting Notice:\nThe Human Rights and Equity Commission (HREC) will have a HREC Subcommittee: Discrimination Reporting and Resources Meeting through Zoom\, in person and watch through YouTube Livestream\, on Tuesday\, April 18\, 2023\, from 12:15 PM to 1:15 PM. \n\nTo Attend by Computer; Pre-Register: You will receive an email confirmation with a personal link/information to connect via computer or phone.\nTo Attend by Phone (No Pre-Registering Required):\n\nDial Toll-Free: 1-888-788-0099\nWebinar ID: 840 4962 2712 # #\nPasscode: HREC23 (If prompted) \n\n\nAttend In-Person: At City Hall\, Boardroom. 710 NW Wall St.\, Bend\, Oregon 97703\nYouTube Livestream: HREC Subcommittee: Discrimination Reporting and Resources Meeting 04/18/2023.\n\nTechnical Difficulties Connecting to this Meeting: Call 541-410-9341 \nFor additional information\, please contact the Accessibility and Equity Manager – Human Rights and Equity Commission Liaison Cassandra Kehoe at 541 693 2141 or email ckehoe@bendoregon.gov. \n \nAccessible Meeting Information\n \nThis meeting/event location is accessible. Sign language interpreter service\, assistive listening devices\, materials in alternate formats such as Braille\, large print\, electronic formats\, or any other accommodations are available upon advance request. please contact the Accessibility and Equity Manager – Human Rights and Equity Commission Liaison Cassandra Kehoe at 541 693 2141 or email ckehoe@bendoregon.gov; Relay Users Dial 7-1-1. Providing\, at least\, 3 days’ notice before the event will help ensure availability.
URL:https://bendoregon.gov/event/hrec-subcommittee-discrimination-reporting-and-resources-meeting/
LOCATION:Boardroom (City Hall)\, 710 NW Wall St\, Bend\, 97703\, United States
CATEGORIES:Human Rights & Equity Commission
END:VEVENT
BEGIN:VEVENT
DTSTART;TZID=America/Los_Angeles:20230329T163000
DTEND;TZID=America/Los_Angeles:20230329T183000
DTSTAMP:20260424T165832
CREATED:20251205T193529Z
LAST-MODIFIED:20251205T193529Z
UID:10003229-1680107400-1680114600@bendoregon.gov
SUMMARY:Human Rights and Equity Commission Meeting
DESCRIPTION:
URL:https://bendoregon.gov/event/human-rights-and-equity-commission-meeting-19/
LOCATION:Council Chambers (City Hall)\, 710 NW Wall St\, Bend\, 97703\, United States
CATEGORIES:Human Rights & Equity Commission
END:VEVENT
BEGIN:VEVENT
DTSTART;TZID=America/Los_Angeles:20230315T130000
DTEND;TZID=America/Los_Angeles:20230315T140000
DTSTAMP:20260424T165832
CREATED:20251205T193454Z
LAST-MODIFIED:20251205T193454Z
UID:10003213-1678885200-1678888800@bendoregon.gov
SUMMARY:HREC Subcommittee: Discrimination Reporting
DESCRIPTION:Notice of Public Meeting  \nVirtual Meeting Notice\nThe Human Rights and Equity Commission (HREC) will have a HREC Subcommittee: Discrimination Reporting meeting through Zoom on March 15\, 2023\, from 1:00 PM to 2:00 PM. \nPlease Note: This is a virtual meeting only. \n\nTo Attend by Computer; Pre-Register: You will receive an email confirmation with a personal link/information to connect via computer or phone.\nTo Attend by Phone (No Pre-Registering Required):\n\nDial Toll-Free: 1-888-788-0099\nWebinar ID: 870 5223 8131 # #\nPasscode: 025682\n\n\nYouTube Livestream: March 15\, 2023\, HREC Subcommittee: Discrimination Reporting meeting.\n\nTechnical Difficulties Connecting to this Meeting: Call 541-410-9341 \nPhone Users’ Comments: Toggle *9 to raise/lower hand\, and *6 to mute/ unmute yourself. After you have spoken\, please\, lower your hand and mute.  \nPublic Attendee Comments: The host will enable the raise/lower hand and the mute/unmute options during the public comment section\, then disable this ability. Comments are limited to two minutes.  \nFor additional information\, please contact the Accessibility and Equity Manager – Human Rights and Equity Commission Liaison Cassandra Kehoe at 541 693 2141 or email ckehoe@bendoregon.gov. \n \nAccessible Meeting Information\n \nThis meeting/event location is accessible. Sign language interpreter service\, assistive listening devices\, materials in alternate formats such as Braille\, large print\, electronic formats\, or any other accommodations are available upon advance request. please contact the Accessibility and Equity Manager – Human Rights and Equity Commission Liaison Cassandra Kehoe at 541 693 2141 or email ckehoe@bendoregon.gov; Relay Users Dial 7-1-1. Providing\, at least\, 3 days’ notice before the event will help ensure availability.
URL:https://bendoregon.gov/event/hrec-subcommittee-discrimination-reporting/
LOCATION:Virtual Meeting Platform\, United States
CATEGORIES:Human Rights & Equity Commission
END:VEVENT
BEGIN:VEVENT
DTSTART;TZID=America/Los_Angeles:20230314T130000
DTEND;TZID=America/Los_Angeles:20230314T140000
DTSTAMP:20260424T165832
CREATED:20251205T193454Z
LAST-MODIFIED:20251205T193454Z
UID:10003211-1678798800-1678802400@bendoregon.gov
SUMMARY:HREC Subcommittee: Developing an Equity Framework
DESCRIPTION:Notice of Public Meeting \nVirtual Meeting Notice:\nThe Human Rights and Equity Commission (HREC) will have a HREC Subcommittee: Developing an Equity Framework meeting through Zoom on March 14\, 2023\, from 1:00 PM to 2:00 PM. \nPlease Note: This is a virtual meeting only. \n\nTo Attend by Computer; Pre-Register: You will receive an email confirmation with a personal link/information to connect via computer or phone.\nTo Attend by Phone (No Pre-Registering Required):\n\nDial Toll-Free: 1-888-788-0099\nWebinar ID: 834 5093 8727 # #\nPasscode: 953828\n\n\nYouTube Livestream: March 14\, 2023\, HREC Subcommittee: Developing an Equity Framework meeting.\n\nTechnical Difficulties Connecting to this Meeting: Call 541-410-9341 \nPhone Users’ Comments: Toggle *9 to raise/lower hand\, and *6 to mute/ unmute yourself. After you have spoken\, please\, lower your hand and mute.  \nPublic Attendee Comments: The host will enable the raise/lower hand and the mute/unmute options during the public comment section\, then disable this ability. Comments are limited to two minutes.  \nFor additional information\, please contact the Accessibility and Equity Manager – Human Rights and Equity Commission Liaison Cassandra Kehoe at 541 693 2141 or email ckehoe@bendoregon.gov. \n \nAccessible Meeting Information\n \nThis meeting/event location is accessible. Sign language interpreter service\, assistive listening devices\, materials in alternate formats such as Braille\, large print\, electronic formats\, or any other accommodations are available upon advance request. please contact the Accessibility and Equity Manager – Human Rights and Equity Commission Liaison Cassandra Kehoe at 541 693 2141 or email ckehoe@bendoregon.gov; Relay Users Dial 7-1-1. Providing\, at least\, 3 days’ notice before the event will help ensure availability.
URL:https://bendoregon.gov/event/hrec-subcommittee-developing-an-equity-framework/
LOCATION:Virtual Meeting Platform\, United States
CATEGORIES:Human Rights & Equity Commission
END:VEVENT
BEGIN:VEVENT
DTSTART;TZID=America/Los_Angeles:20230222T163000
DTEND;TZID=America/Los_Angeles:20230222T183000
DTSTAMP:20260424T165832
CREATED:20251205T193254Z
LAST-MODIFIED:20251205T193254Z
UID:10003186-1677083400-1677090600@bendoregon.gov
SUMMARY:Human Rights and Equity Commission Meeting
DESCRIPTION:
URL:https://bendoregon.gov/event/human-rights-and-equity-commission-meeting-18/
LOCATION:Boardroom (City Hall)\, 710 NW Wall St\, Bend\, 97703\, United States
CATEGORIES:Human Rights & Equity Commission
END:VEVENT
BEGIN:VEVENT
DTSTART;TZID=America/Los_Angeles:20221214T163000
DTEND;TZID=America/Los_Angeles:20221214T183000
DTSTAMP:20260424T165832
CREATED:20251205T192505Z
LAST-MODIFIED:20251205T192505Z
UID:10003129-1671035400-1671042600@bendoregon.gov
SUMMARY:Human Rights and Equity Commission Meeting will be Held in the Boardroom
DESCRIPTION:The Human Rights & Equity Commission is on December 14\, 2022\, in the Boardroom\nHybrid Notice\nThe Human Rights and Equity Commission will conduct its meeting virtually through Zoom and in person on Wednesday\, December 14\, 2022 (Alternate meeting date)\, from 4:30 PM to 6:30 PM\, in the Boardroom located at City Hall. All Documents and links on the Human Rights and Equity Commission (HREC) webpage and the calendar events are updated closer to the meeting date. \nPlease Note the Venue Change and Alternate Date: On December 14th\, an HREC Boardroom Meeting sign will be posted on the Wall Street Boardroom door. The door will remain open until the meeting starts. If the door is closed\, please knock to join the meeting. \n\nTo Attend by Computer; Pre-Register: You will receive an email confirmation with a personal link/information to connect via computer or phone.\nTo Attend by Phone (No Pre-Registering Required):\n\nDial Toll-Free: 1-888-788-0099\nWebinar ID: 829 1687 5256 #\nPasscode: 841294\n\n\nTo Attend In-Person: City Hall Boardroom 710 NW Wall Street\, Bend\, OR.\, 97703\nYouTube: Live Stream the HREC December 2022 Meeting\n\nTechnical Difficulties Connecting to this Meeting: Call 541-410-9341. \nPhone Users’ Comments: Toggle *(Star) 9 to raise/ lower hand\, and *(Star) 6 to mute/ unmute yourself. After you have spoken\, please\, lower your hand and mute yourself. \nPublic Attendee Comments: The host will enable the raise/ lower hand and mute/ unmute during both public comment sections\, then disable this ability. Comments are limited to two minutes. \nFor additional information\, email the Interim Director for the Equity Department Mickie Derting at mderting@bendoregon.gov or call 541-317-3047. \nAccessibility Meeting Notice Information\nThis meeting/event location is accessible. Sign language interpreter service\, assistive listening devices\, materials in alternate formats such as Braille\, large print\, electronic formats\, or any other accommodations are available upon advance request. Please contact the Accessibility and Equity Program at accessibility@bendoregon.gov or call 541-693-2198. Relay Users Dial 7-1-1. Providing\, at least\, 3 days’ notice prior to the event will help ensure availability.
URL:https://bendoregon.gov/event/human-rights-and-equity-commission-meeting-will-be-held-in-the-boardroom/
LOCATION:Boardroom (City Hall)\, 710 NW Wall St\, Bend\, 97703\, United States
CATEGORIES:Human Rights & Equity Commission
END:VEVENT
BEGIN:VEVENT
DTSTART;TZID=America/Los_Angeles:20221109T163000
DTEND;TZID=America/Los_Angeles:20221109T183000
DTSTAMP:20260424T165832
CREATED:20251205T192320Z
LAST-MODIFIED:20251205T192320Z
UID:10003096-1668011400-1668018600@bendoregon.gov
SUMMARY:Human Rights and Equity Commission Meeting held in the Boardroom at City Hall
DESCRIPTION:The Human Rights & Equity Commission Meeting is on November 9\, 2022 \nHybrid Meeting Notice:\nThe Human Rights and Equity Commission will conduct its meetings virtually through Zoom and in person at City Hall Boardroom on Wednesday\, November 9\, 2022\, from 4:30 to 6:30 PM. Documents and link on the Human Rights and Equity Commission (HREC) webpage are updated closer to the meeting date. \nPlease Note the Venue and Date Change Due to the Holiday: The HREC meeting will be held at City Hall in the Boardroom\, and a sign will be posted on the door. The Wall Street boardroom door will remain open until the meeting starts\, please knock if the door is closed for entrance. \n\nTo Attend by Computer; Pre-Register: You will receive an email confirmation with a personal attendee link/ information to connect via computer or phone.\nTo Attend by Phone (No Pre-Registering Required):\n\nDial Toll-Free: 1-888-788-0099\nWebinar ID: 898 1507 9356 #\nPasscode: 737016\n\n\nTo Attend In-Person: City Hall Boardroom 710 NW Wall Street\, Bend\, OR.\, 97703\nYouTube: Live Stream the HREC November 2022 Meeting \n\nTechnical Difficulties Connecting to this Meeting: Call 541-410-9341 \nFor additional information\, email the Interim Director for the Equity Department Mickie Derting at mderting@bendoregon.gov or call 541-317-3047. \nPhone Users’ Comments: Toggle *(Star) 9 to raise/ lower hand\, and *(Star) 6 to mute/ unmute yourself. After you have spoken\, please\, lower your hand and mute yourself. \n Public Attendee Comments: The host will enable the raise/ lower hand and mute/ unmute during both public comment sections\, then disable this ability. Comments are limited to two minutes. \nAccessibility Meeting Notice Information\n This meeting/event location is accessible. Sign language interpreter service\, assistive listening devices\, materials in alternate formats such as Braille\, large print\, electronic formats\, or any other accommodations are available upon advance request. Please contact the Accessibility and Equity Program at accessibility@bendoregon.gov or call 541-693-2198. Relay Users Dial 7-1-1. Providing\, at least\, 3 days’ notice prior to the event will help ensure availability.
URL:https://bendoregon.gov/event/human-rights-and-equity-commission-meeting-held-in-the-boardroom-at-city-hall/
LOCATION:Boardroom (City Hall)\, 710 NW Wall St\, Bend\, 97703\, United States
CATEGORIES:Human Rights & Equity Commission
END:VEVENT
BEGIN:VEVENT
DTSTART;TZID=America/Los_Angeles:20221026T163000
DTEND;TZID=America/Los_Angeles:20221026T183000
DTSTAMP:20260424T165832
CREATED:20251205T192251Z
LAST-MODIFIED:20251205T192251Z
UID:10003084-1666801800-1666809000@bendoregon.gov
SUMMARY:Human Rights and Equity Commission Meeting
DESCRIPTION:
URL:https://bendoregon.gov/event/human-rights-and-equity-commission-meeting-16/
LOCATION:Council Chambers (City Hall)\, 710 NW Wall St\, Bend\, 97703\, United States
CATEGORIES:Human Rights & Equity Commission
END:VEVENT
BEGIN:VEVENT
DTSTART;TZID=America/Los_Angeles:20220928T163000
DTEND;TZID=America/Los_Angeles:20220928T183000
DTSTAMP:20260424T165832
CREATED:20251205T192120Z
LAST-MODIFIED:20251205T192120Z
UID:10003053-1664382600-1664389800@bendoregon.gov
SUMMARY:Human Rights and Equity Commission Meeting
DESCRIPTION:
URL:https://bendoregon.gov/event/human-rights-and-equity-commission-meeting-15/
LOCATION:Council Chambers (City Hall)\, 710 NW Wall St\, Bend\, 97703\, United States
CATEGORIES:Human Rights & Equity Commission
END:VEVENT
BEGIN:VEVENT
DTSTART;TZID=America/Los_Angeles:20220831T163000
DTEND;TZID=America/Los_Angeles:20220831T183000
DTSTAMP:20260424T165832
CREATED:20251205T191905Z
LAST-MODIFIED:20251205T191905Z
UID:10003012-1661963400-1661970600@bendoregon.gov
SUMMARY:Human Rights and Equity Commission Meeting
DESCRIPTION:
URL:https://bendoregon.gov/event/human-rights-and-equity-commission-meeting-14/
LOCATION:Council Chambers (City Hall)\, 710 NW Wall St\, Bend\, 97703\, United States
CATEGORIES:Human Rights & Equity Commission
END:VEVENT
BEGIN:VEVENT
DTSTART;TZID=America/Los_Angeles:20220629T163000
DTEND;TZID=America/Los_Angeles:20220629T183000
DTSTAMP:20260424T165832
CREATED:20251205T191635Z
LAST-MODIFIED:20251205T191635Z
UID:10002961-1656520200-1656527400@bendoregon.gov
SUMMARY:Human Rights and Equity Commission Meeting
DESCRIPTION:
URL:https://bendoregon.gov/event/human-rights-and-equity-commission-meeting-12/
CATEGORIES:Human Rights & Equity Commission
END:VEVENT
BEGIN:VEVENT
DTSTART;TZID=America/Los_Angeles:20220427T163000
DTEND;TZID=America/Los_Angeles:20220427T183000
DTSTAMP:20260424T165832
CREATED:20251205T191335Z
LAST-MODIFIED:20251205T191335Z
UID:10002900-1651077000-1651084200@bendoregon.gov
SUMMARY:Canceled - Human Rights and Equity Commission Meeting
DESCRIPTION:
URL:https://bendoregon.gov/event/canceled-human-rights-and-equity-commission-meeting-3/
CATEGORIES:Human Rights & Equity Commission
END:VEVENT
BEGIN:VEVENT
DTSTART;TZID=America/Los_Angeles:20220223T163000
DTEND;TZID=America/Los_Angeles:20220223T183000
DTSTAMP:20260424T165832
CREATED:20251205T191119Z
LAST-MODIFIED:20251205T191119Z
UID:10002856-1645633800-1645641000@bendoregon.gov
SUMMARY:Human Rights and Equity Commission Meeting
DESCRIPTION:
URL:https://bendoregon.gov/event/human-rights-and-equity-commission-meeting-11/
CATEGORIES:Human Rights & Equity Commission
END:VEVENT
BEGIN:VEVENT
DTSTART;TZID=America/Los_Angeles:20220217T120000
DTEND;TZID=America/Los_Angeles:20220217T133000
DTSTAMP:20260424T165832
CREATED:20251205T191050Z
LAST-MODIFIED:20251205T191050Z
UID:10002847-1645099200-1645104600@bendoregon.gov
SUMMARY:Human Rights and Equity Commission Communications Work Group Meeting
DESCRIPTION:
URL:https://bendoregon.gov/event/human-rights-and-equity-commission-communications-work-group-meeting-4/
CATEGORIES:Human Rights & Equity Commission
END:VEVENT
BEGIN:VEVENT
DTSTART;TZID=America/Los_Angeles:20220216T113000
DTEND;TZID=America/Los_Angeles:20220216T130000
DTSTAMP:20260424T165832
CREATED:20251205T191049Z
LAST-MODIFIED:20251205T191049Z
UID:10002844-1645011000-1645016400@bendoregon.gov
SUMMARY:Human Rights and Equity Commission Governance and Guidelines Subcommittee Meeting
DESCRIPTION:
URL:https://bendoregon.gov/event/human-rights-and-equity-commission-governance-and-guidelines-subcommittee-meeting-4/
CATEGORIES:Human Rights & Equity Commission
END:VEVENT
BEGIN:VEVENT
DTSTART;TZID=America/Los_Angeles:20220126T163000
DTEND;TZID=America/Los_Angeles:20220126T183000
DTSTAMP:20260424T165832
CREATED:20251205T191018Z
LAST-MODIFIED:20251205T191018Z
UID:10002828-1643214600-1643221800@bendoregon.gov
SUMMARY:Human Rights and Equity Commission Meeting
DESCRIPTION:
URL:https://bendoregon.gov/event/human-rights-and-equity-commission-meeting-10/
CATEGORIES:Human Rights & Equity Commission
END:VEVENT
BEGIN:VEVENT
DTSTART;TZID=America/Los_Angeles:20220114T150000
DTEND;TZID=America/Los_Angeles:20220114T163000
DTSTAMP:20260424T165832
CREATED:20251205T190948Z
LAST-MODIFIED:20251205T190948Z
UID:10002820-1642172400-1642177800@bendoregon.gov
SUMMARY:Human Rights and Equity Commission Governance and Guidelines Subcommittee Meeting
DESCRIPTION:
URL:https://bendoregon.gov/event/human-rights-and-equity-commission-governance-and-guidelines-subcommittee-meeting-3/
CATEGORIES:Human Rights & Equity Commission
END:VEVENT
END:VCALENDAR