BEGIN:VCALENDAR
VERSION:2.0
PRODID:-//City of Bend - ECPv6.15.20//NONSGML v1.0//EN
CALSCALE:GREGORIAN
METHOD:PUBLISH
X-ORIGINAL-URL:https://bendoregon.gov
X-WR-CALDESC:Events for City of Bend
REFRESH-INTERVAL;VALUE=DURATION:PT1H
X-Robots-Tag:noindex
X-PUBLISHED-TTL:PT1H
BEGIN:VTIMEZONE
TZID:America/Los_Angeles
BEGIN:DAYLIGHT
TZOFFSETFROM:-0800
TZOFFSETTO:-0700
TZNAME:PDT
DTSTART:20170312T100000
END:DAYLIGHT
BEGIN:STANDARD
TZOFFSETFROM:-0700
TZOFFSETTO:-0800
TZNAME:PST
DTSTART:20171105T090000
END:STANDARD
BEGIN:DAYLIGHT
TZOFFSETFROM:-0800
TZOFFSETTO:-0700
TZNAME:PDT
DTSTART:20180311T100000
END:DAYLIGHT
BEGIN:STANDARD
TZOFFSETFROM:-0700
TZOFFSETTO:-0800
TZNAME:PST
DTSTART:20181104T090000
END:STANDARD
BEGIN:DAYLIGHT
TZOFFSETFROM:-0800
TZOFFSETTO:-0700
TZNAME:PDT
DTSTART:20190310T100000
END:DAYLIGHT
BEGIN:STANDARD
TZOFFSETFROM:-0700
TZOFFSETTO:-0800
TZNAME:PST
DTSTART:20191103T090000
END:STANDARD
END:VTIMEZONE
BEGIN:VEVENT
DTSTART;TZID=America/Los_Angeles:20181003T170000
DTEND;TZID=America/Los_Angeles:20181003T220000
DTSTAMP:20260424T142640
CREATED:20251205T172408Z
LAST-MODIFIED:20251205T172408Z
UID:10001806-1538586000-1538604000@bendoregon.gov
SUMMARY:City Council
DESCRIPTION:
URL:https://bendoregon.gov/event/city-council-43/
LOCATION:Council Chambers (City Hall)\, 710 NW Wall St\, Bend\, 97703\, United States
CATEGORIES:Map Alignment Project
END:VEVENT
BEGIN:VEVENT
DTSTART;TZID=America/Los_Angeles:20180919T170000
DTEND;TZID=America/Los_Angeles:20180919T220000
DTSTAMP:20260424T142640
CREATED:20251205T172208Z
LAST-MODIFIED:20251205T172208Z
UID:10001794-1537376400-1537394400@bendoregon.gov
SUMMARY:City Council
DESCRIPTION:
URL:https://bendoregon.gov/event/city-council-42/
LOCATION:Council Chambers (City Hall)\, 710 NW Wall St\, Bend\, 97703\, United States
CATEGORIES:Map Alignment Project
END:VEVENT
BEGIN:VEVENT
DTSTART;TZID=America/Los_Angeles:20180905T170000
DTEND;TZID=America/Los_Angeles:20180905T220000
DTSTAMP:20260424T142640
CREATED:20251205T171909Z
LAST-MODIFIED:20251205T171909Z
UID:10001774-1536166800-1536184800@bendoregon.gov
SUMMARY:City Council
DESCRIPTION:
URL:https://bendoregon.gov/event/city-council-41/
LOCATION:Council Chambers (City Hall)\, 710 NW Wall St\, Bend\, 97703\, United States
CATEGORIES:Map Alignment Project
END:VEVENT
BEGIN:VEVENT
DTSTART;TZID=America/Los_Angeles:20180827T173000
DTEND;TZID=America/Los_Angeles:20180827T230000
DTSTAMP:20260424T142640
CREATED:20251205T171854Z
LAST-MODIFIED:20251205T171854Z
UID:10001769-1535391000-1535410800@bendoregon.gov
SUMMARY:Planning Commission
DESCRIPTION:5:30pm start time.  \nLocation: City Hall\, Council Chambers\, 710 NW Wall Street\, Bend\, OR 97703  \nAgenda
URL:https://bendoregon.gov/event/planning-commission-31/
LOCATION:Council Chambers (City Hall)\, 710 NW Wall St\, Bend\, 97703\, United States
CATEGORIES:Map Alignment Project
END:VEVENT
BEGIN:VEVENT
DTSTART;TZID=America/Los_Angeles:20180813T173000
DTEND;TZID=America/Los_Angeles:20180813T230000
DTSTAMP:20260424T142640
CREATED:20251205T171824Z
LAST-MODIFIED:20251205T171824Z
UID:10001761-1534181400-1534201200@bendoregon.gov
SUMMARY:Planning Commission
DESCRIPTION:5:30pm start time.  \nLocation: City Hall\, Council Chambers\, 710 NW Wall Street\, Bend\, OR 97703  \nAgenda
URL:https://bendoregon.gov/event/planning-commission-30/
LOCATION:Council Chambers (City Hall)\, 710 NW Wall St\, Bend\, 97703\, United States
CATEGORIES:Map Alignment Project
END:VEVENT
BEGIN:VEVENT
DTSTART;TZID=America/Los_Angeles:20180712T173000
DTEND;TZID=America/Los_Angeles:20180712T193000
DTSTAMP:20260424T142640
CREATED:20251205T171541Z
LAST-MODIFIED:20251205T171541Z
UID:10001740-1531416600-1531423800@bendoregon.gov
SUMMARY:Map Alignment Project Open House
DESCRIPTION:City staff will provide an overview of the project and be available to answer questions. Please join us.\nA project website\, including an interactive map and frequently asked questions\, is available at bendoregon.gov/mapalignmentproject. \nPROJECT DETAILS:\nThe City is proposing to align the zoning map and the Comprehensive Plan map. Aligning the zoning map with the Comprehensive Plan map will rezone properties and: \n\nProvide clarity and transparency to the community about what can be developed and where;\nMake housing and development permitting more streamlined for affected properties; and\nRemove development barriers to reduce risk\, costs and timelines.\n\nProperty owners whose property would be rezoned do have the ability to opt out. \nQUESTIONS?\nPauline Hardie at (541) 693-2153 or phardie@bendoregon.gov.
URL:https://bendoregon.gov/event/map-alignment-project-open-house/
LOCATION:Riverbend Community Room\, 799 SW Columbia\, Bend\, 97702\, United States
CATEGORIES:Map Alignment Project
END:VEVENT
END:VCALENDAR