BEGIN:VCALENDAR
VERSION:2.0
PRODID:-//City of Bend - ECPv6.15.20//NONSGML v1.0//EN
CALSCALE:GREGORIAN
METHOD:PUBLISH
X-ORIGINAL-URL:https://bendoregon.gov
X-WR-CALDESC:Events for City of Bend
REFRESH-INTERVAL;VALUE=DURATION:PT1H
X-Robots-Tag:noindex
X-PUBLISHED-TTL:PT1H
BEGIN:VTIMEZONE
TZID:America/Los_Angeles
BEGIN:DAYLIGHT
TZOFFSETFROM:-0800
TZOFFSETTO:-0700
TZNAME:PDT
DTSTART:20170312T100000
END:DAYLIGHT
BEGIN:STANDARD
TZOFFSETFROM:-0700
TZOFFSETTO:-0800
TZNAME:PST
DTSTART:20171105T090000
END:STANDARD
BEGIN:DAYLIGHT
TZOFFSETFROM:-0800
TZOFFSETTO:-0700
TZNAME:PDT
DTSTART:20180311T100000
END:DAYLIGHT
BEGIN:STANDARD
TZOFFSETFROM:-0700
TZOFFSETTO:-0800
TZNAME:PST
DTSTART:20181104T090000
END:STANDARD
BEGIN:DAYLIGHT
TZOFFSETFROM:-0800
TZOFFSETTO:-0700
TZNAME:PDT
DTSTART:20190310T100000
END:DAYLIGHT
BEGIN:STANDARD
TZOFFSETFROM:-0700
TZOFFSETTO:-0800
TZNAME:PST
DTSTART:20191103T090000
END:STANDARD
BEGIN:DAYLIGHT
TZOFFSETFROM:-0800
TZOFFSETTO:-0700
TZNAME:PDT
DTSTART:20200308T100000
END:DAYLIGHT
BEGIN:STANDARD
TZOFFSETFROM:-0700
TZOFFSETTO:-0800
TZNAME:PST
DTSTART:20201101T090000
END:STANDARD
BEGIN:DAYLIGHT
TZOFFSETFROM:-0800
TZOFFSETTO:-0700
TZNAME:PDT
DTSTART:20210314T100000
END:DAYLIGHT
BEGIN:STANDARD
TZOFFSETFROM:-0700
TZOFFSETTO:-0800
TZNAME:PST
DTSTART:20211107T090000
END:STANDARD
END:VTIMEZONE
BEGIN:VEVENT
DTSTART;TZID=America/Los_Angeles:20201112T110000
DTEND;TZID=America/Los_Angeles:20201112T130000
DTSTAMP:20260424T035731
CREATED:20251205T184342Z
LAST-MODIFIED:20251205T184342Z
UID:10002467-1605178800-1605186000@bendoregon.gov
SUMMARY:Environment and Climate Committee Meeting
DESCRIPTION:
URL:https://bendoregon.gov/event/environment-and-climate-committee-meeting/
CATEGORIES:Sustainability Events
END:VEVENT
BEGIN:VEVENT
DTSTART;TZID=America/Los_Angeles:20191024T150000
DTEND;TZID=America/Los_Angeles:20191024T170000
DTSTAMP:20260424T035731
CREATED:20251205T175026Z
LAST-MODIFIED:20251205T175026Z
UID:10002173-1571929200-1571936400@bendoregon.gov
SUMMARY:Climate Action Steering Committee Meeting
DESCRIPTION:
URL:https://bendoregon.gov/event/climate-action-steering-committee-meeting-12/
CATEGORIES:Sustainability Events
END:VEVENT
BEGIN:VEVENT
DTSTART;TZID=America/Los_Angeles:20190917T150000
DTEND;TZID=America/Los_Angeles:20190917T180000
DTSTAMP:20260424T035731
CREATED:20251205T174812Z
LAST-MODIFIED:20251205T174812Z
UID:10002132-1568732400-1568743200@bendoregon.gov
SUMMARY:Climate Action Steering Committee Meeting
DESCRIPTION:
URL:https://bendoregon.gov/event/climate-action-steering-committee-meeting-11/
LOCATION:The Pavilion\, 1001 SW Bradbury Way\, Bend\, 97702\, United States
CATEGORIES:Sustainability Events
END:VEVENT
BEGIN:VEVENT
DTSTART;TZID=America/Los_Angeles:20190814T150000
DTEND;TZID=America/Los_Angeles:20190814T170000
DTSTAMP:20260424T035731
CREATED:20251205T174509Z
LAST-MODIFIED:20251205T174509Z
UID:10002096-1565794800-1565802000@bendoregon.gov
SUMMARY:Climate Action Steering Committee Meeting
DESCRIPTION:
URL:https://bendoregon.gov/event/climate-action-steering-committee-meeting-10/
LOCATION:Fire Training Center\, 63377 NE Jamison St.\, Bend\, 97701\, United States
CATEGORIES:Sustainability Events
END:VEVENT
BEGIN:VEVENT
DTSTART;TZID=America/Los_Angeles:20190626T150000
DTEND;TZID=America/Los_Angeles:20190626T180000
DTSTAMP:20260424T035731
CREATED:20251205T174205Z
LAST-MODIFIED:20251205T174205Z
UID:10002059-1561561200-1561572000@bendoregon.gov
SUMMARY:Climate Action Steering Committee Meeting
DESCRIPTION:
URL:https://bendoregon.gov/event/climate-action-steering-committee-meeting-9/
LOCATION:Council Chambers (City Hall)\, 710 NW Wall St\, Bend\, 97703\, United States
CATEGORIES:Sustainability Events
END:VEVENT
BEGIN:VEVENT
DTSTART;TZID=America/Los_Angeles:20190529T150000
DTEND;TZID=America/Los_Angeles:20190529T180000
DTSTAMP:20260424T035731
CREATED:20251205T174050Z
LAST-MODIFIED:20251205T174050Z
UID:10002033-1559142000-1559152800@bendoregon.gov
SUMMARY:Climate Action Steering Committee Meeting
DESCRIPTION:
URL:https://bendoregon.gov/event/climate-action-steering-committee-meeting-8/
LOCATION:Council Chambers (City Hall)\, 710 NW Wall St\, Bend\, 97703\, United States
CATEGORIES:Sustainability Events
END:VEVENT
BEGIN:VEVENT
DTSTART;TZID=America/Los_Angeles:20190313T150000
DTEND;TZID=America/Los_Angeles:20190313T171500
DTSTAMP:20260424T035731
CREATED:20251205T173715Z
LAST-MODIFIED:20251205T173715Z
UID:10001965-1552489200-1552497300@bendoregon.gov
SUMMARY:Climate Action Steering Committee Meeting
DESCRIPTION:
URL:https://bendoregon.gov/event/climate-action-steering-committee-meeting-7/
LOCATION:Conference Room B\, Bend Parks and Recreation District Office\, 799 SW Columbia\, Bend\, United States
CATEGORIES:Sustainability Events
END:VEVENT
BEGIN:VEVENT
DTSTART;TZID=America/Los_Angeles:20190219T150000
DTEND;TZID=America/Los_Angeles:20190219T180000
DTSTAMP:20260424T035731
CREATED:20251205T173600Z
LAST-MODIFIED:20251205T173600Z
UID:10001938-1550588400-1550599200@bendoregon.gov
SUMMARY:Climate Action Steering Committee Meeting
DESCRIPTION:
URL:https://bendoregon.gov/event/climate-action-steering-committee-meeting-6/
LOCATION:Trinity Episcopal Church – Brooks Hall\, 469 NW Wall Street\, Bend\, 97703\, United States
CATEGORIES:Sustainability Events
END:VEVENT
BEGIN:VEVENT
DTSTART;TZID=America/Los_Angeles:20190122T150000
DTEND;TZID=America/Los_Angeles:20190122T170000
DTSTAMP:20260424T035731
CREATED:20251205T173415Z
LAST-MODIFIED:20251205T173415Z
UID:10001905-1548169200-1548176400@bendoregon.gov
SUMMARY:Climate Action Steering Committee Meeting
DESCRIPTION:
URL:https://bendoregon.gov/event/climate-action-steering-committee-meeting-5/
LOCATION:Fire Training Center\, 63377 NE Jamison St.\, Bend\, 97701\, United States
CATEGORIES:Sustainability Events
END:VEVENT
BEGIN:VEVENT
DTSTART;TZID=America/Los_Angeles:20181203T150000
DTEND;TZID=America/Los_Angeles:20181203T180000
DTSTAMP:20260424T035731
CREATED:20251205T173037Z
LAST-MODIFIED:20251205T173037Z
UID:10001864-1543849200-1543860000@bendoregon.gov
SUMMARY:Climate Action Steering Committee Meeting
DESCRIPTION:Monthly meeting of the Climate Action Steering Committee.
URL:https://bendoregon.gov/event/climate-action-steering-committee-meeting-4/
LOCATION:Council Chambers (City Hall)\, 710 NW Wall St\, Bend\, 97703\, United States
CATEGORIES:Sustainability Events
END:VEVENT
BEGIN:VEVENT
DTSTART;TZID=America/Los_Angeles:20181115T160000
DTEND;TZID=America/Los_Angeles:20181115T180000
DTSTAMP:20260424T035731
CREATED:20251205T172607Z
LAST-MODIFIED:20251205T172607Z
UID:10001847-1542297600-1542304800@bendoregon.gov
SUMMARY:Bend C-CAP Working Groups: Transportation
DESCRIPTION:Second working group meeting of the Transportation subcommittee of the Climate Action Steering Committee. Focus of meeting is brainstorming potential policy and initiative options for the Community Climate Action Plan.
URL:https://bendoregon.gov/event/bend-c-cap-working-groups-transportation/
LOCATION:Council Chambers (City Hall)\, 710 NW Wall St\, Bend\, 97703\, United States
CATEGORIES:Sustainability Events
END:VEVENT
BEGIN:VEVENT
DTSTART;TZID=America/Los_Angeles:20181113T160000
DTEND;TZID=America/Los_Angeles:20181113T180000
DTSTAMP:20260424T035731
CREATED:20251205T172552Z
LAST-MODIFIED:20251205T172552Z
UID:10001841-1542124800-1542132000@bendoregon.gov
SUMMARY:Bend C-CAP Working Groups: Waste & Materials Management
DESCRIPTION:Second working group meeting of the Waste & Materials Management subcommittee of the Climate Action Steering Committee. Focus of meeting is brainstorming list of potential Community Climate Action Plan policy and initiative options.
URL:https://bendoregon.gov/event/bend-c-cap-working-groups-waste-materials-management/
LOCATION:Council Chambers (City Hall)\, 710 NW Wall St\, Bend\, 97703\, United States
CATEGORIES:Sustainability Events
END:VEVENT
BEGIN:VEVENT
DTSTART;TZID=America/Los_Angeles:20181108T150000
DTEND;TZID=America/Los_Angeles:20181108T170000
DTSTAMP:20260424T035731
CREATED:20251205T172537Z
LAST-MODIFIED:20251205T172537Z
UID:10001835-1541689200-1541696400@bendoregon.gov
SUMMARY:Bend C-CAP Working Groups: Energy Efficiency in Buildings
DESCRIPTION:Second working group meeting for the Energy Efficiency in Buildings sub committee of the Climate Action Steering Committee. Focus of the meeting is brainstorming potential Community Climate Action Plan options. Workshop format.
URL:https://bendoregon.gov/event/bend-c-cap-working-groups-energy-efficiency-in-buildings/
LOCATION:Riverbend Community Room\, 799 SW Columbia\, Bend\, 97702\, United States
CATEGORIES:Sustainability Events
END:VEVENT
BEGIN:VEVENT
DTSTART;TZID=America/Los_Angeles:20181106T160000
DTEND;TZID=America/Los_Angeles:20181106T180000
DTSTAMP:20260424T035731
CREATED:20251205T172522Z
LAST-MODIFIED:20251205T172522Z
UID:10001831-1541520000-1541527200@bendoregon.gov
SUMMARY:Bend C-CAP Working Groups: Energy Supply
DESCRIPTION:Second working group meetings for the energy supply sub committee of the Climate Action Steering Committee. Focus of the meeting is brainstorming potential Community Climate Action Plan options.
URL:https://bendoregon.gov/event/bend-c-cap-working-groups-energy-supply/
LOCATION:Council Chambers (City Hall)\, 710 NW Wall St\, Bend\, 97703\, United States
CATEGORIES:Sustainability Events
END:VEVENT
BEGIN:VEVENT
DTSTART;TZID=America/Los_Angeles:20181023T150000
DTEND;TZID=America/Los_Angeles:20181023T170000
DTSTAMP:20260424T035731
CREATED:20251205T172452Z
LAST-MODIFIED:20251205T172452Z
UID:10001821-1540306800-1540314000@bendoregon.gov
SUMMARY:C-CAP Working Group Meeting: Energy Supply
DESCRIPTION:First working group meeting for the Energy Supply working group for the Community Climate Action Plan.
URL:https://bendoregon.gov/event/c-cap-working-group-meeting-energy-supply/
LOCATION:Council Chambers (City Hall)\, 710 NW Wall St\, Bend\, 97703\, United States
CATEGORIES:Sustainability Events
END:VEVENT
BEGIN:VEVENT
DTSTART;TZID=America/Los_Angeles:20181010T150000
DTEND;TZID=America/Los_Angeles:20181010T170000
DTSTAMP:20260424T035731
CREATED:20251205T172421Z
LAST-MODIFIED:20251205T172421Z
UID:10001811-1539183600-1539190800@bendoregon.gov
SUMMARY:C-CAP Working Group Meeting: Transporatation
DESCRIPTION:Transportation working group for the Bend Community Climate Action Plan. This working group is advising the Climate Action Steering Committee on transportation related emissions and potential solutions for reducing greenhouse gas emissions. Meetings are open for the public to participate.
URL:https://bendoregon.gov/event/c-cap-working-group-meeting-transporatation/
LOCATION:Rosie Bareis Community Campus Sanctuary\, 1010 NW 14th St.\, Bend\, United States
CATEGORIES:Sustainability Events
END:VEVENT
BEGIN:VEVENT
DTSTART;TZID=America/Los_Angeles:20181009T150000
DTEND;TZID=America/Los_Angeles:20181009T170000
DTSTAMP:20260424T035731
CREATED:20251205T172421Z
LAST-MODIFIED:20251205T172421Z
UID:10001810-1539097200-1539104400@bendoregon.gov
SUMMARY:C-CAP Working Group Meeting: Waste and Materials Management
DESCRIPTION:First working group meeting to advise the Climate Action Steering Committee on waste and materials management
URL:https://bendoregon.gov/event/c-cap-working-group-meeting-waste-and-materials-management/
LOCATION:Council Chambers (City Hall)\, 710 NW Wall St\, Bend\, 97703\, United States
CATEGORIES:Sustainability Events
END:VEVENT
BEGIN:VEVENT
DTSTART;TZID=America/Los_Angeles:20180823T150000
DTEND;TZID=America/Los_Angeles:20180823T190000
DTSTAMP:20260424T035731
CREATED:20251205T171839Z
LAST-MODIFIED:20251205T171839Z
UID:10001767-1535036400-1535050800@bendoregon.gov
SUMMARY:Climate Action Steering Committee Meeting
DESCRIPTION:Fourth meeting of the Climate Action Steering Committee.
URL:https://bendoregon.gov/event/climate-action-steering-committee-meeting-3/
CATEGORIES:Sustainability Events
END:VEVENT
BEGIN:VEVENT
DTSTART;TZID=America/Los_Angeles:20180802T150000
DTEND;TZID=America/Los_Angeles:20180802T180000
DTSTAMP:20260424T035731
CREATED:20251205T171809Z
LAST-MODIFIED:20251205T171809Z
UID:10001754-1533222000-1533232800@bendoregon.gov
SUMMARY:Climate Action Steering Committee Meeting: Greenhouse Gas Inventory Presentation
DESCRIPTION:Meeting #3 of the Climate Action Steering Committee and the public presentation of the community-wide greenhouse gas emissions inventory. Consultant that conducted greenhouse gas emissions inventory will be presenting the results of the study completed for community emissions in the City of Bend. Greenhouse gas presentation will take place between 3:15-4:30 PM and will allow time for a committee Q&A with the consultant.  \n Members of the public are encouraged to attend and can provide written questions to city staff regarding the study.
URL:https://bendoregon.gov/event/climate-action-steering-committee-meeting-greenhouse-gas-inventory-presentation/
LOCATION:Council Chambers (City Hall)\, 710 NW Wall St\, Bend\, 97703\, United States
CATEGORIES:Sustainability Events
END:VEVENT
BEGIN:VEVENT
DTSTART;TZID=America/Los_Angeles:20180607T150000
DTEND;TZID=America/Los_Angeles:20180607T180000
DTSTAMP:20260424T035731
CREATED:20251205T171129Z
LAST-MODIFIED:20251205T171129Z
UID:10001717-1528383600-1528394400@bendoregon.gov
SUMMARY:Climate Action Steering Committee Meeting
DESCRIPTION:Meeting #2 of the Climate Action Steering Committee
URL:https://bendoregon.gov/event/climate-action-steering-committee-meeting-2/
LOCATION:Fire Training Center\, 63377 NE Jamison St.\, Bend\, 97701\, United States
CATEGORIES:Sustainability Events
END:VEVENT
BEGIN:VEVENT
DTSTART;TZID=America/Los_Angeles:20180426T163000
DTEND;TZID=America/Los_Angeles:20180426T183000
DTSTAMP:20260424T035731
CREATED:20251205T170726Z
LAST-MODIFIED:20251205T170726Z
UID:10001691-1524760200-1524767400@bendoregon.gov
SUMMARY:Climate Action Steering Committee Meeting
DESCRIPTION:First meeting of the Climate Action Steering Committee
URL:https://bendoregon.gov/event/climate-action-steering-committee-meeting/
LOCATION:Council Chambers (City Hall)\, 710 NW Wall St\, Bend\, 97703\, United States
CATEGORIES:Sustainability Events
END:VEVENT
END:VCALENDAR