BEGIN:VCALENDAR
VERSION:2.0
PRODID:-//City of Bend - ECPv6.15.20//NONSGML v1.0//EN
CALSCALE:GREGORIAN
METHOD:PUBLISH
X-ORIGINAL-URL:https://bendoregon.gov
X-WR-CALDESC:Events for City of Bend
REFRESH-INTERVAL;VALUE=DURATION:PT1H
X-Robots-Tag:noindex
X-PUBLISHED-TTL:PT1H
BEGIN:VTIMEZONE
TZID:America/Los_Angeles
BEGIN:DAYLIGHT
TZOFFSETFROM:-0800
TZOFFSETTO:-0700
TZNAME:PDT
DTSTART:20170312T100000
END:DAYLIGHT
BEGIN:STANDARD
TZOFFSETFROM:-0700
TZOFFSETTO:-0800
TZNAME:PST
DTSTART:20171105T090000
END:STANDARD
BEGIN:DAYLIGHT
TZOFFSETFROM:-0800
TZOFFSETTO:-0700
TZNAME:PDT
DTSTART:20180311T100000
END:DAYLIGHT
BEGIN:STANDARD
TZOFFSETFROM:-0700
TZOFFSETTO:-0800
TZNAME:PST
DTSTART:20181104T090000
END:STANDARD
BEGIN:DAYLIGHT
TZOFFSETFROM:-0800
TZOFFSETTO:-0700
TZNAME:PDT
DTSTART:20190310T100000
END:DAYLIGHT
BEGIN:STANDARD
TZOFFSETFROM:-0700
TZOFFSETTO:-0800
TZNAME:PST
DTSTART:20191103T090000
END:STANDARD
BEGIN:DAYLIGHT
TZOFFSETFROM:-0800
TZOFFSETTO:-0700
TZNAME:PDT
DTSTART:20200308T100000
END:DAYLIGHT
BEGIN:STANDARD
TZOFFSETFROM:-0700
TZOFFSETTO:-0800
TZNAME:PST
DTSTART:20201101T090000
END:STANDARD
END:VTIMEZONE
BEGIN:VEVENT
DTSTART;TZID=America/Los_Angeles:20190710T100000
DTEND;TZID=America/Los_Angeles:20190710T120000
DTSTAMP:20260425T031650
CREATED:20251205T174235Z
LAST-MODIFIED:20251205T174235Z
UID:10002070-1562752800-1562760000@bendoregon.gov
SUMMARY:Bend MPO Technical Advisory Committee - Safety Workshop
DESCRIPTION:Bend MPO will hold a special meeting  on July 10 from 10 am – 12 noon to review the draft Transportation Safety Action Plan. The meeting will be held at the ODOT Region 4 offices (63055 North Highway 97\, Bend) in the Crater Conference Room (Bldg M).   \n View the Agenda and Packet on the MPO Technical Advisory Committee Web Page.  Agendas are typically available one week prior to the meeting. \nThis meeting is open to the public.  All are welcome. \nAccessible Meeting Information This meeting event/location is accessible. Sign language\, interpreter service\, assistive listening devices\, materials in alternate format\, such as Braille\, large print\, electronic formats\, or any other accommodations are available upon advance request. Please contact Jovi Anderson at (541) 693-2122\, janderson@bendoregon.gov and/or fax (541) 389-2245. Providing at least 3 business day’s notice prior to the event will help ensure availability. 
URL:https://bendoregon.gov/event/bend-mpo-technical-advisory-committee-safety-workshop/
LOCATION:Oregon Department of Transportation Region 4\, 63055 North Highway 97\, Bend\, 97701\, United States
CATEGORIES:Transportation System Plan | Metropolitan Transportation Plan
END:VEVENT
BEGIN:VEVENT
DTSTART;TZID=America/Los_Angeles:20190311T130000
DTEND;TZID=America/Los_Angeles:20190311T150000
DTSTAMP:20260425T031650
CREATED:20251205T173700Z
LAST-MODIFIED:20251205T173700Z
UID:10001959-1552309200-1552316400@bendoregon.gov
SUMMARY:Bend MPO Technical Advisory Committee - Parkway Meeting
DESCRIPTION: You can see more about this project at the Bend Parkway Webpage.   \nAccessible Meeting Information  \nThis meeting event/location is accessible. Sign language\, interpreter service\, assistive listening devices\, materials in alternate format\, such as Braille\, large print\, electronic formats\, or any other accommodations are available upon advance request. Please contact Jovi Anderson at (541) 693-2122\, janderson@bendoregon.gov and/or fax (541) 389-2245. Providing at least 3 business day’s notice prior to the event will help ensure availability. 
URL:https://bendoregon.gov/event/bend-mpo-technical-advisory-committee-parkway-meeting/
LOCATION:Oregon Department of Transportation – Region 4 Offices\, 63055 US 97 Business (3rd Street)\, Bend\, 97701\, United States
CATEGORIES:Transportation System Plan | Metropolitan Transportation Plan
END:VEVENT
BEGIN:VEVENT
DTSTART;TZID=America/Los_Angeles:20190306T100000
DTEND;TZID=America/Los_Angeles:20190306T120000
DTSTAMP:20260425T031650
CREATED:20251205T173645Z
LAST-MODIFIED:20251205T173645Z
UID:10001955-1551866400-1551873600@bendoregon.gov
SUMMARY:Bend MPO Technical Advisory Committee - Transportation Safety Workshop
DESCRIPTION:View the Agenda and Packet on the MPO Technical Advisory Committee Web Page.  Agendas are typically available one week prior to the meeting.  This meeting will focus on the Bend area Transportation Safety Action Plan.  For more information on this plan\, please view the project webpage at www.bendoregon.gov/transportationsafety.   \nThis meeting is open to the public.  All are welcome. \nAccessible Meeting Information This meeting event/location is accessible. Sign language\, interpreter service\, assistive listening devices\, materials in alternate format\, such as Braille\, large print\, electronic formats\, or any other accommodations are available upon advance request. Please contact Jovi Anderson at (541) 693-2122\, janderson@bendoregon.gov and/or fax (541) 389-2245. Providing at least 3 business day’s notice prior to the event will help ensure availability. 
URL:https://bendoregon.gov/event/bend-mpo-technical-advisory-committee-transportation-safety-workshop/
LOCATION:Deschutes Services Building\, DeArmond Room\, 1300 NW Wall Street\, Bend\, 97703\, United States
CATEGORIES:Transportation System Plan | Metropolitan Transportation Plan
END:VEVENT
BEGIN:VEVENT
DTSTART;TZID=America/Los_Angeles:20180503T160000
DTEND;TZID=America/Los_Angeles:20180503T183000
DTSTAMP:20260425T031650
CREATED:20251205T170741Z
LAST-MODIFIED:20251205T170741Z
UID:10001695-1525363200-1525372200@bendoregon.gov
SUMMARY:Bend's Transportation Plan Steering Committee Meeting
DESCRIPTION:  \nNOTICE OF BEND’S TRANSPORTATION PLAN STEERING COMMITTEE \n  \n  \nThe second meeting of the Steering Committee for Bend’s Transportation Plan will take place on May 3\, 2018 at 4:00-6:30PM in the Riverbend Community Room\, 799 SW Columbia\, Bend\, OR 97702. \n  \n The agenda will include: \n\n\nCTAC Report and Process \n\n\nSteering Committee Guidance on Project Goals \n\n\nLand Use Assumptions for Transportation Modeling \n\n\nFunding Work Group Overview \n\n\n  \nMeeting materials will be available online at: www.bendoregon.gov/tsp \n  \nFor additional Information\, please contact Growth Management Director Nick Arnis\, 541-388-5542\, narnis@bendoregon.gov
URL:https://bendoregon.gov/event/bends-transportation-plan-steering-committee-meeting-2/
LOCATION:Riverbend Community Room\, 799 SW Columbia\, Bend\, 97702\, United States
CATEGORIES:Transportation System Plan | Metropolitan Transportation Plan
END:VEVENT
END:VCALENDAR