BEGIN:VCALENDAR
VERSION:2.0
PRODID:-//City of Bend - ECPv6.15.20//NONSGML v1.0//EN
CALSCALE:GREGORIAN
METHOD:PUBLISH
X-WR-CALNAME:City of Bend
X-ORIGINAL-URL:https://bendoregon.gov
X-WR-CALDESC:Events for City of Bend
REFRESH-INTERVAL;VALUE=DURATION:PT1H
X-Robots-Tag:noindex
X-PUBLISHED-TTL:PT1H
BEGIN:VTIMEZONE
TZID:America/Los_Angeles
BEGIN:DAYLIGHT
TZOFFSETFROM:-0800
TZOFFSETTO:-0700
TZNAME:PDT
DTSTART:20120311T100000
END:DAYLIGHT
BEGIN:STANDARD
TZOFFSETFROM:-0700
TZOFFSETTO:-0800
TZNAME:PST
DTSTART:20121104T090000
END:STANDARD
BEGIN:DAYLIGHT
TZOFFSETFROM:-0800
TZOFFSETTO:-0700
TZNAME:PDT
DTSTART:20130310T100000
END:DAYLIGHT
BEGIN:STANDARD
TZOFFSETFROM:-0700
TZOFFSETTO:-0800
TZNAME:PST
DTSTART:20131103T090000
END:STANDARD
BEGIN:DAYLIGHT
TZOFFSETFROM:-0800
TZOFFSETTO:-0700
TZNAME:PDT
DTSTART:20140309T100000
END:DAYLIGHT
BEGIN:STANDARD
TZOFFSETFROM:-0700
TZOFFSETTO:-0800
TZNAME:PST
DTSTART:20141102T090000
END:STANDARD
BEGIN:DAYLIGHT
TZOFFSETFROM:-0800
TZOFFSETTO:-0700
TZNAME:PDT
DTSTART:20150308T100000
END:DAYLIGHT
BEGIN:STANDARD
TZOFFSETFROM:-0700
TZOFFSETTO:-0800
TZNAME:PST
DTSTART:20151101T090000
END:STANDARD
END:VTIMEZONE
BEGIN:VEVENT
DTSTART;TZID=America/Los_Angeles:20140124T130000
DTEND;TZID=America/Los_Angeles:20140124T235900
DTSTAMP:20260424T040415
CREATED:20251204T010341Z
LAST-MODIFIED:20251204T010341Z
UID:10000757-1390568400-1390607940@bendoregon.gov
SUMMARY:UGB Remand Task Force
DESCRIPTION:The Bend UGB Remand Task Force will hold its next meeting at 1 p.m. on Friday\, January 24\, 2014\, in the Bend City Hall Council Chambers\, 710 NW Wall Street. The meeting will begin immediately following the adjournment of a joint meeting of the Bend City Council and Bend Planning Commission. The purpose of the task force meeting is to receive a progress report from city staff on further work on the buildable lands inventory regarding lands with infill potential.
URL:https://bendoregon.gov/event/ugb-remand-task-force-3/
LOCATION:Bend City Hall Council Chambers\, 710 NW Wall Street\, Bend\, 97701\, United States
CATEGORIES:UGB Remand
END:VEVENT
BEGIN:VEVENT
DTSTART;TZID=America/Los_Angeles:20131118T150000
DTEND;TZID=America/Los_Angeles:20131118T235900
DTSTAMP:20260424T040415
CREATED:20251204T004741Z
LAST-MODIFIED:20251204T004741Z
UID:10000716-1384786800-1384819140@bendoregon.gov
SUMMARY:UGB Remand Task Force and City Council
DESCRIPTION:Discussion of remand tasks.
URL:https://bendoregon.gov/event/ugb-remand-task-force-and-city-council/
LOCATION:City Council Chambers\, Bend City Hall\, 710 NW Wall\, Bend\, United States
CATEGORIES:UGB Remand
END:VEVENT
BEGIN:VEVENT
DTSTART;TZID=America/Los_Angeles:20131107T000000
DTEND;TZID=America/Los_Angeles:20131107T190000
DTSTAMP:20260424T040415
CREATED:20251204T004341Z
LAST-MODIFIED:20251204T004341Z
UID:10000706-1383782400-1383850800@bendoregon.gov
SUMMARY:Summit West Neighborhood Association General Meeting
DESCRIPTION:Summit West Neighborhood Association general membership meeting includes a presentation from city staff about the Urban Grown Boundary and Bridge Creek projects.
URL:https://bendoregon.gov/event/summit-west-neighborhood-association-general-meeting/
LOCATION:Summit High School Library\, United States
CATEGORIES:UGB Remand
END:VEVENT
BEGIN:VEVENT
DTSTART;TZID=America/Los_Angeles:20131015T170000
DTEND;TZID=America/Los_Angeles:20131015T200000
DTSTAMP:20260424T040415
CREATED:20251204T003741Z
LAST-MODIFIED:20251204T003741Z
UID:10000692-1381856400-1381867200@bendoregon.gov
SUMMARY:League of Women Voters UGB Forum
DESCRIPTION:
URL:https://bendoregon.gov/event/league-of-women-voters-ugb-forum/
LOCATION:Downtown Bend Library – Brooks Room\, 601 N.W. Wall Street\, Bend\, 97701\, United States
CATEGORIES:UGB Remand
END:VEVENT
BEGIN:VEVENT
DTSTART;TZID=America/Los_Angeles:20130701T150000
DTEND;TZID=America/Los_Angeles:20130701T170000
DTSTAMP:20260424T040415
CREATED:20251204T001541Z
LAST-MODIFIED:20251204T001541Z
UID:10000634-1372690800-1372698000@bendoregon.gov
SUMMARY:Remand Task Force (RTF) Meeting
DESCRIPTION:Agenda and link to meeting materials \nThis meeting will be held: \nBend Metro Parks and Recreation District Office \n799 SW Columbia Street \nBend\, OR \n97702 \n 
URL:https://bendoregon.gov/event/remand-task-force-rtf-meeting/
LOCATION:Bend Metro Parks and Recreation District Office\, 799 SW Columbia Street\, Bend\, 97702\, United States
CATEGORIES:UGB Remand
END:VEVENT
END:VCALENDAR