BEGIN:VCALENDAR
VERSION:2.0
PRODID:-//City of Bend - ECPv6.15.20//NONSGML v1.0//EN
CALSCALE:GREGORIAN
METHOD:PUBLISH
X-WR-CALNAME:City of Bend
X-ORIGINAL-URL:https://bendoregon.gov
X-WR-CALDESC:Events for City of Bend
REFRESH-INTERVAL;VALUE=DURATION:PT1H
X-Robots-Tag:noindex
X-PUBLISHED-TTL:PT1H
BEGIN:VTIMEZONE
TZID:America/Los_Angeles
BEGIN:DAYLIGHT
TZOFFSETFROM:-0800
TZOFFSETTO:-0700
TZNAME:PDT
DTSTART:20260308T100000
END:DAYLIGHT
BEGIN:STANDARD
TZOFFSETFROM:-0700
TZOFFSETTO:-0800
TZNAME:PST
DTSTART:20261101T090000
END:STANDARD
BEGIN:DAYLIGHT
TZOFFSETFROM:-0800
TZOFFSETTO:-0700
TZNAME:PDT
DTSTART:20270314T100000
END:DAYLIGHT
BEGIN:STANDARD
TZOFFSETFROM:-0700
TZOFFSETTO:-0800
TZNAME:PST
DTSTART:20271107T090000
END:STANDARD
BEGIN:DAYLIGHT
TZOFFSETFROM:-0800
TZOFFSETTO:-0700
TZNAME:PDT
DTSTART:20280312T100000
END:DAYLIGHT
BEGIN:STANDARD
TZOFFSETFROM:-0700
TZOFFSETTO:-0800
TZNAME:PST
DTSTART:20281105T090000
END:STANDARD
END:VTIMEZONE
BEGIN:VEVENT
DTSTART;TZID=America/Los_Angeles:20270311T173000
DTEND;TZID=America/Los_Angeles:20270311T203000
DTSTAMP:20260425T073633
CREATED:20260326T221321Z
LAST-MODIFIED:20260331T230327Z
UID:10004678-1804786200-1804797000@bendoregon.gov
SUMMARY:Test Planning Commission Event (UGB Remand\, technically)
DESCRIPTION:Agenda\nRoll Call\n\nMargo Clinton – Chair\nNathan Nelson – Vice Chair\nBob Gressens\nSuzanne Johannsen\nErin Ludden\nKatie Schnur\nScott Winters\n\nVisitors\nQuasi-Judicial Public Hearing\n\nPLTEXT20250679: Proposed amendments to Bend Development Code Article XXVIII\, Timber Yards Master Planned Development\, to remove the east-west local street in the master plan and relocate proposed open space tracts\, with accompanying amendments to the adopted street cross-sections and Timber Yards Phasing Plan and Transportation Mitigation Plan.\nStaff: Karen Swenson\, Senior Planner\, kswenson@bendoregon.gov\nRecommended Motion: I move to recommend that the City Council adopt an ordinance to amend Bend Development Code Chapter 2.7\, Special Planned Districts\, Refinement Plans\, Area Plans and Master Plans to amend the Timber Yards Master Planned Development as proposed by the applicant\, with the draft findings provided by staff.\nMeeting Materials\n\nTransmittal Memo\nExhibit A: Staff Report and Draft Findings\n\n\nQuasi-Judicial Public Hearing Procedures\n\nExplanation of procedural requirements of State Law\nOpen the hearing\nStatement of pre-hearing contacts\, bias\, prejudice or personal interest\nOpportunity to challenge for bias\, prejudgment or personal interest\nStaff report\nApplicant testimony\nPublic testimony\nApplicant rebuttal\nStaff comments\nQuestions from or to the Chair may be entertained\nClose public hearing\nDeliberation\nMotion to approve\, approve with conditions\, or deny the request\n\n\n\nApproval of Minutes:\n\nPlanning Commission Minutes 1.12.2026\nPlanning Commission Minutes 1.12.2026\n\nCommunications:\n\nMemo – Supplier Diversity Update\nReport from the Planning Manager\nReport from Community Development Director\nReport from City Attorney
URL:https://bendoregon.gov/event/test-planning-commission-event-ugb-remand-technically/
LOCATION:Redmond Library\, 827 Deschutes Avenue\, Redmond\, 97756\, United States
CATEGORIES:UGB Remand
ATTACH;FMTTYPE=image/jpeg:https://bendoregon.gov/wp-content/uploads/2026/03/city-fest-graphic.jpg
END:VEVENT
END:VCALENDAR