BEGIN:VCALENDAR
VERSION:2.0
PRODID:-//City of Bend - ECPv6.15.20//NONSGML v1.0//EN
CALSCALE:GREGORIAN
METHOD:PUBLISH
X-WR-CALNAME:City of Bend
X-ORIGINAL-URL:https://bendoregon.gov
X-WR-CALDESC:Events for City of Bend
REFRESH-INTERVAL;VALUE=DURATION:PT1H
X-Robots-Tag:noindex
X-PUBLISHED-TTL:PT1H
BEGIN:VTIMEZONE
TZID:America/Los_Angeles
BEGIN:DAYLIGHT
TZOFFSETFROM:-0800
TZOFFSETTO:-0700
TZNAME:PDT
DTSTART:20250309T100000
END:DAYLIGHT
BEGIN:STANDARD
TZOFFSETFROM:-0700
TZOFFSETTO:-0800
TZNAME:PST
DTSTART:20251102T090000
END:STANDARD
BEGIN:DAYLIGHT
TZOFFSETFROM:-0800
TZOFFSETTO:-0700
TZNAME:PDT
DTSTART:20260308T100000
END:DAYLIGHT
BEGIN:STANDARD
TZOFFSETFROM:-0700
TZOFFSETTO:-0800
TZNAME:PST
DTSTART:20261101T090000
END:STANDARD
BEGIN:DAYLIGHT
TZOFFSETFROM:-0800
TZOFFSETTO:-0700
TZNAME:PDT
DTSTART:20270314T100000
END:DAYLIGHT
BEGIN:STANDARD
TZOFFSETFROM:-0700
TZOFFSETTO:-0800
TZNAME:PST
DTSTART:20271107T090000
END:STANDARD
END:VTIMEZONE
BEGIN:VEVENT
DTSTART;TZID=America/Los_Angeles:20260506T170000
DTEND;TZID=America/Los_Angeles:20260506T210000
DTSTAMP:20260423T224946
CREATED:20260403T151602Z
LAST-MODIFIED:20260403T152233Z
UID:10004158-1778086800-1778101200@bendoregon.gov
SUMMARY:City Council 5 p.m. Executive Session / 6 p.m. Business Meeting
DESCRIPTION:
URL:https://bendoregon.gov/event/city-council-business-meeting-8/
LOCATION:Bend City Council Chambers\, 710 NW Wall Street\, Bend\, 97701\, United States
CATEGORIES:City Council
END:VEVENT
BEGIN:VEVENT
DTSTART;TZID=America/Los_Angeles:20260520T180000
DTEND;TZID=America/Los_Angeles:20260520T210000
DTSTAMP:20260423T224946
CREATED:20251219T164705Z
LAST-MODIFIED:20260323T192032Z
UID:10004182-1779300000-1779310800@bendoregon.gov
SUMMARY:City Council Business Meeting
DESCRIPTION:
URL:https://bendoregon.gov/event/city-council-business-meeting-7/2026-05-20/
LOCATION:Bend City Council Chambers\, 710 NW Wall Street\, Bend\, 97701\, United States
CATEGORIES:City Council
END:VEVENT
BEGIN:VEVENT
DTSTART;TZID=America/Los_Angeles:20260603T180000
DTEND;TZID=America/Los_Angeles:20260603T210000
DTSTAMP:20260423T224946
CREATED:20251219T164247Z
LAST-MODIFIED:20251219T164247Z
UID:10004159-1780509600-1780520400@bendoregon.gov
SUMMARY:City Council Business Meeting
DESCRIPTION:
URL:https://bendoregon.gov/event/city-council-business-meeting-6/2026-06-03/
LOCATION:Bend City Council Chambers\, 710 NW Wall Street\, Bend\, 97701\, United States
CATEGORIES:City Council
END:VEVENT
BEGIN:VEVENT
DTSTART;TZID=America/Los_Angeles:20260617T180000
DTEND;TZID=America/Los_Angeles:20260617T210000
DTSTAMP:20260423T224946
CREATED:20251219T164705Z
LAST-MODIFIED:20260323T192032Z
UID:10004183-1781719200-1781730000@bendoregon.gov
SUMMARY:City Council Business Meeting
DESCRIPTION:
URL:https://bendoregon.gov/event/city-council-business-meeting-7/2026-06-17/
LOCATION:Bend City Council Chambers\, 710 NW Wall Street\, Bend\, 97701\, United States
CATEGORIES:City Council
END:VEVENT
BEGIN:VEVENT
DTSTART;TZID=America/Los_Angeles:20260701T180000
DTEND;TZID=America/Los_Angeles:20260701T210000
DTSTAMP:20260423T224946
CREATED:20260403T170444Z
LAST-MODIFIED:20260407T154721Z
UID:10004160-1782928800-1782939600@bendoregon.gov
SUMMARY:Canceled: City Council Business Meeting
DESCRIPTION:
URL:https://bendoregon.gov/event/city-council-business-meeting-6-3/
LOCATION:Bend City Council Chambers\, 710 NW Wall Street\, Bend\, 97701\, United States
CATEGORIES:City Council
END:VEVENT
BEGIN:VEVENT
DTSTART;TZID=America/Los_Angeles:20260715T180000
DTEND;TZID=America/Los_Angeles:20260715T210000
DTSTAMP:20260423T224946
CREATED:20251219T164705Z
LAST-MODIFIED:20260323T192032Z
UID:10004184-1784138400-1784149200@bendoregon.gov
SUMMARY:City Council Business Meeting
DESCRIPTION:
URL:https://bendoregon.gov/event/city-council-business-meeting-7/2026-07-15/
LOCATION:Bend City Council Chambers\, 710 NW Wall Street\, Bend\, 97701\, United States
CATEGORIES:City Council
END:VEVENT
BEGIN:VEVENT
DTSTART;TZID=America/Los_Angeles:20260805T180000
DTEND;TZID=America/Los_Angeles:20260805T210000
DTSTAMP:20260423T224946
CREATED:20251219T164247Z
LAST-MODIFIED:20251219T164247Z
UID:10004161-1785952800-1785963600@bendoregon.gov
SUMMARY:City Council Business Meeting
DESCRIPTION:
URL:https://bendoregon.gov/event/city-council-business-meeting-6/2026-08-05/
LOCATION:Bend City Council Chambers\, 710 NW Wall Street\, Bend\, 97701\, United States
CATEGORIES:City Council
END:VEVENT
BEGIN:VEVENT
DTSTART;TZID=America/Los_Angeles:20260819T180000
DTEND;TZID=America/Los_Angeles:20260819T210000
DTSTAMP:20260423T224946
CREATED:20260403T170653Z
LAST-MODIFIED:20260407T154742Z
UID:10004185-1787162400-1787173200@bendoregon.gov
SUMMARY:Canceled: City Council Business Meeting
DESCRIPTION:
URL:https://bendoregon.gov/event/city-council-business-meeting-7-3/
LOCATION:Bend City Council Chambers\, 710 NW Wall Street\, Bend\, 97701\, United States
CATEGORIES:City Council
END:VEVENT
BEGIN:VEVENT
DTSTART;TZID=America/Los_Angeles:20260902T180000
DTEND;TZID=America/Los_Angeles:20260902T210000
DTSTAMP:20260423T224946
CREATED:20251219T164247Z
LAST-MODIFIED:20251219T164247Z
UID:10004162-1788372000-1788382800@bendoregon.gov
SUMMARY:City Council Business Meeting
DESCRIPTION:
URL:https://bendoregon.gov/event/city-council-business-meeting-6/2026-09-02/
LOCATION:Bend City Council Chambers\, 710 NW Wall Street\, Bend\, 97701\, United States
CATEGORIES:City Council
END:VEVENT
BEGIN:VEVENT
DTSTART;TZID=America/Los_Angeles:20260916T180000
DTEND;TZID=America/Los_Angeles:20260916T210000
DTSTAMP:20260423T224946
CREATED:20251219T164705Z
LAST-MODIFIED:20260323T192032Z
UID:10004186-1789581600-1789592400@bendoregon.gov
SUMMARY:City Council Business Meeting
DESCRIPTION:
URL:https://bendoregon.gov/event/city-council-business-meeting-7/2026-09-16/
LOCATION:Bend City Council Chambers\, 710 NW Wall Street\, Bend\, 97701\, United States
CATEGORIES:City Council
END:VEVENT
BEGIN:VEVENT
DTSTART;TZID=America/Los_Angeles:20261007T180000
DTEND;TZID=America/Los_Angeles:20261007T210000
DTSTAMP:20260423T224946
CREATED:20251219T164247Z
LAST-MODIFIED:20251219T164247Z
UID:10004163-1791396000-1791406800@bendoregon.gov
SUMMARY:City Council Business Meeting
DESCRIPTION:
URL:https://bendoregon.gov/event/city-council-business-meeting-6/2026-10-07/
LOCATION:Bend City Council Chambers\, 710 NW Wall Street\, Bend\, 97701\, United States
CATEGORIES:City Council
END:VEVENT
BEGIN:VEVENT
DTSTART;TZID=America/Los_Angeles:20261021T180000
DTEND;TZID=America/Los_Angeles:20261021T210000
DTSTAMP:20260423T224946
CREATED:20251219T164705Z
LAST-MODIFIED:20260323T192032Z
UID:10004187-1792605600-1792616400@bendoregon.gov
SUMMARY:City Council Business Meeting
DESCRIPTION:
URL:https://bendoregon.gov/event/city-council-business-meeting-7/2026-10-21/
LOCATION:Bend City Council Chambers\, 710 NW Wall Street\, Bend\, 97701\, United States
CATEGORIES:City Council
END:VEVENT
BEGIN:VEVENT
DTSTART;TZID=America/Los_Angeles:20261104T180000
DTEND;TZID=America/Los_Angeles:20261104T210000
DTSTAMP:20260423T224946
CREATED:20251219T164247Z
LAST-MODIFIED:20251219T164247Z
UID:10004164-1793815200-1793826000@bendoregon.gov
SUMMARY:City Council Business Meeting
DESCRIPTION:
URL:https://bendoregon.gov/event/city-council-business-meeting-6/2026-11-04/
LOCATION:Bend City Council Chambers\, 710 NW Wall Street\, Bend\, 97701\, United States
CATEGORIES:City Council
END:VEVENT
BEGIN:VEVENT
DTSTART;TZID=America/Los_Angeles:20261118T180000
DTEND;TZID=America/Los_Angeles:20261118T210000
DTSTAMP:20260423T224946
CREATED:20251219T164705Z
LAST-MODIFIED:20260323T192032Z
UID:10004188-1795024800-1795035600@bendoregon.gov
SUMMARY:City Council Business Meeting
DESCRIPTION:
URL:https://bendoregon.gov/event/city-council-business-meeting-7/2026-11-18/
LOCATION:Bend City Council Chambers\, 710 NW Wall Street\, Bend\, 97701\, United States
CATEGORIES:City Council
END:VEVENT
BEGIN:VEVENT
DTSTART;TZID=America/Los_Angeles:20261202T180000
DTEND;TZID=America/Los_Angeles:20261202T210000
DTSTAMP:20260423T224946
CREATED:20251219T164247Z
LAST-MODIFIED:20251219T164247Z
UID:10004165-1796234400-1796245200@bendoregon.gov
SUMMARY:City Council Business Meeting
DESCRIPTION:
URL:https://bendoregon.gov/event/city-council-business-meeting-6/2026-12-02/
LOCATION:Bend City Council Chambers\, 710 NW Wall Street\, Bend\, 97701\, United States
CATEGORIES:City Council
END:VEVENT
BEGIN:VEVENT
DTSTART;TZID=America/Los_Angeles:20261216T180000
DTEND;TZID=America/Los_Angeles:20261216T210000
DTSTAMP:20260423T224946
CREATED:20251219T164705Z
LAST-MODIFIED:20260323T192032Z
UID:10004189-1797444000-1797454800@bendoregon.gov
SUMMARY:City Council Business Meeting
DESCRIPTION:
URL:https://bendoregon.gov/event/city-council-business-meeting-7/2026-12-16/
LOCATION:Bend City Council Chambers\, 710 NW Wall Street\, Bend\, 97701\, United States
CATEGORIES:City Council
END:VEVENT
END:VCALENDAR