BEGIN:VCALENDAR
VERSION:2.0
PRODID:-//City of Bend - ECPv6.15.20//NONSGML v1.0//EN
CALSCALE:GREGORIAN
METHOD:PUBLISH
X-WR-CALNAME:City of Bend
X-ORIGINAL-URL:https://bendoregon.gov
X-WR-CALDESC:Events for City of Bend
REFRESH-INTERVAL;VALUE=DURATION:PT1H
X-Robots-Tag:noindex
X-PUBLISHED-TTL:PT1H
BEGIN:VTIMEZONE
TZID:America/Los_Angeles
BEGIN:DAYLIGHT
TZOFFSETFROM:-0800
TZOFFSETTO:-0700
TZNAME:PDT
DTSTART:20250309T100000
END:DAYLIGHT
BEGIN:STANDARD
TZOFFSETFROM:-0700
TZOFFSETTO:-0800
TZNAME:PST
DTSTART:20251102T090000
END:STANDARD
BEGIN:DAYLIGHT
TZOFFSETFROM:-0800
TZOFFSETTO:-0700
TZNAME:PDT
DTSTART:20260308T100000
END:DAYLIGHT
BEGIN:STANDARD
TZOFFSETFROM:-0700
TZOFFSETTO:-0800
TZNAME:PST
DTSTART:20261101T090000
END:STANDARD
BEGIN:DAYLIGHT
TZOFFSETFROM:-0800
TZOFFSETTO:-0700
TZNAME:PDT
DTSTART:20270314T100000
END:DAYLIGHT
BEGIN:STANDARD
TZOFFSETFROM:-0700
TZOFFSETTO:-0800
TZNAME:PST
DTSTART:20271107T090000
END:STANDARD
END:VTIMEZONE
BEGIN:VEVENT
DTSTART;TZID=America/Los_Angeles:20260528T130000
DTEND;TZID=America/Los_Angeles:20260528T143000
DTSTAMP:20260423T224946
CREATED:20251219T180328Z
LAST-MODIFIED:20251219T180328Z
UID:10004266-1779973200-1779978600@bendoregon.gov
SUMMARY:City of Bend Accessibility Advisory Committee Hybrid Meeting
DESCRIPTION:The information and links for this meeting are uploaded closer to the meeting date. \nHybrid Meeting Notice:\nThe City of Bend Accessibility Advisory Committee (COBAAC) will conduct its hybrid meetings through Zoom and in person in Council Chambers\, 710 NW Wall Street\, from 1:00 to 2:30 PM. \nTo Attend by Computer\, Pre-Register: You will receive an email confirmation with a personalized link with information to connect by computer and phone. \nTo Attend by Phone\, No Registration Required: \n\nDial Toll-Free: 1-888-788-0099\nWebinar ID: will update\nPasscode (if prompted): 262222 (COBAAC)\n\nCOBAAC Meeting\, live at 1:00 PM. \nTechnical Difficulties Connecting to the meeting: Call 541-410-9341 \nFor additional information: Please contact the Accessibility Manager // COBAAC Liaison\, Cassandra Kehoe\, She\, Her\, Ella\, at ckehoe@bendoregon.gov or call 541-693-2141. \nLanguage Assistance Services and Accommodation Information for People with Disabilities:\nYou can obtain this information in alternative formats such as Braille\, electronic format\, etc. Free language services are also available. Please contact the Accessibility Department at accessibility@bendoregon.gov or call 541-693-2141. Relay users Dial 7-1-1. Contacting us with your accommodations 24 to 72 hours in advance will help us procure your request. \nServicios de asistencia lingüística e información sobre alojamiento para personas con discapacidad:\nPuede obtener esta información en formatos alternativos como Braille\, formato electrónico\, etc. También disponemos de servicios gratuitos de asistencia lingüística. Póngase en contacto con Gestor del proyecto o creador del documento en correo electrónico equity@bendoregon.gov o número de teléfono 541-323- 8563. Los usuarios del servicio de retransmisión deben marcar el 7-1-1.
URL:https://bendoregon.gov/event/city-of-bend-accessibility-advisory-committee-hybrid-meeting-18/2026-05-28/
LOCATION:Bend City Council Chambers\, 710 NW Wall Street\, Bend\, 97701\, United States
END:VEVENT
BEGIN:VEVENT
DTSTART;TZID=America/Los_Angeles:20260625T130000
DTEND;TZID=America/Los_Angeles:20260625T143000
DTSTAMP:20260423T224946
CREATED:20251219T180328Z
LAST-MODIFIED:20251219T180328Z
UID:10004267-1782392400-1782397800@bendoregon.gov
SUMMARY:City of Bend Accessibility Advisory Committee Hybrid Meeting
DESCRIPTION:The information and links for this meeting are uploaded closer to the meeting date. \nHybrid Meeting Notice:\nThe City of Bend Accessibility Advisory Committee (COBAAC) will conduct its hybrid meetings through Zoom and in person in Council Chambers\, 710 NW Wall Street\, from 1:00 to 2:30 PM. \nTo Attend by Computer\, Pre-Register: You will receive an email confirmation with a personalized link with information to connect by computer and phone. \nTo Attend by Phone\, No Registration Required: \n\nDial Toll-Free: 1-888-788-0099\nWebinar ID: will update\nPasscode (if prompted): 262222 (COBAAC)\n\nCOBAAC Meeting\, live at 1:00 PM. \nTechnical Difficulties Connecting to the meeting: Call 541-410-9341 \nFor additional information: Please contact the Accessibility Manager // COBAAC Liaison\, Cassandra Kehoe\, She\, Her\, Ella\, at ckehoe@bendoregon.gov or call 541-693-2141. \nLanguage Assistance Services and Accommodation Information for People with Disabilities:\nYou can obtain this information in alternative formats such as Braille\, electronic format\, etc. Free language services are also available. Please contact the Accessibility Department at accessibility@bendoregon.gov or call 541-693-2141. Relay users Dial 7-1-1. Contacting us with your accommodations 24 to 72 hours in advance will help us procure your request. \nServicios de asistencia lingüística e información sobre alojamiento para personas con discapacidad:\nPuede obtener esta información en formatos alternativos como Braille\, formato electrónico\, etc. También disponemos de servicios gratuitos de asistencia lingüística. Póngase en contacto con Gestor del proyecto o creador del documento en correo electrónico equity@bendoregon.gov o número de teléfono 541-323- 8563. Los usuarios del servicio de retransmisión deben marcar el 7-1-1.
URL:https://bendoregon.gov/event/city-of-bend-accessibility-advisory-committee-hybrid-meeting-18/2026-06-25/
LOCATION:Bend City Council Chambers\, 710 NW Wall Street\, Bend\, 97701\, United States
END:VEVENT
BEGIN:VEVENT
DTSTART;TZID=America/Los_Angeles:20260723T130000
DTEND;TZID=America/Los_Angeles:20260723T143000
DTSTAMP:20260423T224946
CREATED:20251219T180328Z
LAST-MODIFIED:20251219T180328Z
UID:10004268-1784811600-1784817000@bendoregon.gov
SUMMARY:City of Bend Accessibility Advisory Committee Hybrid Meeting
DESCRIPTION:The information and links for this meeting are uploaded closer to the meeting date. \nHybrid Meeting Notice:\nThe City of Bend Accessibility Advisory Committee (COBAAC) will conduct its hybrid meetings through Zoom and in person in Council Chambers\, 710 NW Wall Street\, from 1:00 to 2:30 PM. \nTo Attend by Computer\, Pre-Register: You will receive an email confirmation with a personalized link with information to connect by computer and phone. \nTo Attend by Phone\, No Registration Required: \n\nDial Toll-Free: 1-888-788-0099\nWebinar ID: will update\nPasscode (if prompted): 262222 (COBAAC)\n\nCOBAAC Meeting\, live at 1:00 PM. \nTechnical Difficulties Connecting to the meeting: Call 541-410-9341 \nFor additional information: Please contact the Accessibility Manager // COBAAC Liaison\, Cassandra Kehoe\, She\, Her\, Ella\, at ckehoe@bendoregon.gov or call 541-693-2141. \nLanguage Assistance Services and Accommodation Information for People with Disabilities:\nYou can obtain this information in alternative formats such as Braille\, electronic format\, etc. Free language services are also available. Please contact the Accessibility Department at accessibility@bendoregon.gov or call 541-693-2141. Relay users Dial 7-1-1. Contacting us with your accommodations 24 to 72 hours in advance will help us procure your request. \nServicios de asistencia lingüística e información sobre alojamiento para personas con discapacidad:\nPuede obtener esta información en formatos alternativos como Braille\, formato electrónico\, etc. También disponemos de servicios gratuitos de asistencia lingüística. Póngase en contacto con Gestor del proyecto o creador del documento en correo electrónico equity@bendoregon.gov o número de teléfono 541-323- 8563. Los usuarios del servicio de retransmisión deben marcar el 7-1-1.
URL:https://bendoregon.gov/event/city-of-bend-accessibility-advisory-committee-hybrid-meeting-18/2026-07-23/
LOCATION:Bend City Council Chambers\, 710 NW Wall Street\, Bend\, 97701\, United States
END:VEVENT
BEGIN:VEVENT
DTSTART;TZID=America/Los_Angeles:20260827T130000
DTEND;TZID=America/Los_Angeles:20260827T143000
DTSTAMP:20260423T224946
CREATED:20251219T180328Z
LAST-MODIFIED:20251219T180328Z
UID:10004269-1787835600-1787841000@bendoregon.gov
SUMMARY:City of Bend Accessibility Advisory Committee Hybrid Meeting
DESCRIPTION:The information and links for this meeting are uploaded closer to the meeting date. \nHybrid Meeting Notice:\nThe City of Bend Accessibility Advisory Committee (COBAAC) will conduct its hybrid meetings through Zoom and in person in Council Chambers\, 710 NW Wall Street\, from 1:00 to 2:30 PM. \nTo Attend by Computer\, Pre-Register: You will receive an email confirmation with a personalized link with information to connect by computer and phone. \nTo Attend by Phone\, No Registration Required: \n\nDial Toll-Free: 1-888-788-0099\nWebinar ID: will update\nPasscode (if prompted): 262222 (COBAAC)\n\nCOBAAC Meeting\, live at 1:00 PM. \nTechnical Difficulties Connecting to the meeting: Call 541-410-9341 \nFor additional information: Please contact the Accessibility Manager // COBAAC Liaison\, Cassandra Kehoe\, She\, Her\, Ella\, at ckehoe@bendoregon.gov or call 541-693-2141. \nLanguage Assistance Services and Accommodation Information for People with Disabilities:\nYou can obtain this information in alternative formats such as Braille\, electronic format\, etc. Free language services are also available. Please contact the Accessibility Department at accessibility@bendoregon.gov or call 541-693-2141. Relay users Dial 7-1-1. Contacting us with your accommodations 24 to 72 hours in advance will help us procure your request. \nServicios de asistencia lingüística e información sobre alojamiento para personas con discapacidad:\nPuede obtener esta información en formatos alternativos como Braille\, formato electrónico\, etc. También disponemos de servicios gratuitos de asistencia lingüística. Póngase en contacto con Gestor del proyecto o creador del documento en correo electrónico equity@bendoregon.gov o número de teléfono 541-323- 8563. Los usuarios del servicio de retransmisión deben marcar el 7-1-1.
URL:https://bendoregon.gov/event/city-of-bend-accessibility-advisory-committee-hybrid-meeting-18/2026-08-27/
LOCATION:Bend City Council Chambers\, 710 NW Wall Street\, Bend\, 97701\, United States
END:VEVENT
BEGIN:VEVENT
DTSTART;TZID=America/Los_Angeles:20260924T130000
DTEND;TZID=America/Los_Angeles:20260924T143000
DTSTAMP:20260423T224946
CREATED:20251219T180328Z
LAST-MODIFIED:20251219T180328Z
UID:10004270-1790254800-1790260200@bendoregon.gov
SUMMARY:City of Bend Accessibility Advisory Committee Hybrid Meeting
DESCRIPTION:The information and links for this meeting are uploaded closer to the meeting date. \nHybrid Meeting Notice:\nThe City of Bend Accessibility Advisory Committee (COBAAC) will conduct its hybrid meetings through Zoom and in person in Council Chambers\, 710 NW Wall Street\, from 1:00 to 2:30 PM. \nTo Attend by Computer\, Pre-Register: You will receive an email confirmation with a personalized link with information to connect by computer and phone. \nTo Attend by Phone\, No Registration Required: \n\nDial Toll-Free: 1-888-788-0099\nWebinar ID: will update\nPasscode (if prompted): 262222 (COBAAC)\n\nCOBAAC Meeting\, live at 1:00 PM. \nTechnical Difficulties Connecting to the meeting: Call 541-410-9341 \nFor additional information: Please contact the Accessibility Manager // COBAAC Liaison\, Cassandra Kehoe\, She\, Her\, Ella\, at ckehoe@bendoregon.gov or call 541-693-2141. \nLanguage Assistance Services and Accommodation Information for People with Disabilities:\nYou can obtain this information in alternative formats such as Braille\, electronic format\, etc. Free language services are also available. Please contact the Accessibility Department at accessibility@bendoregon.gov or call 541-693-2141. Relay users Dial 7-1-1. Contacting us with your accommodations 24 to 72 hours in advance will help us procure your request. \nServicios de asistencia lingüística e información sobre alojamiento para personas con discapacidad:\nPuede obtener esta información en formatos alternativos como Braille\, formato electrónico\, etc. También disponemos de servicios gratuitos de asistencia lingüística. Póngase en contacto con Gestor del proyecto o creador del documento en correo electrónico equity@bendoregon.gov o número de teléfono 541-323- 8563. Los usuarios del servicio de retransmisión deben marcar el 7-1-1.
URL:https://bendoregon.gov/event/city-of-bend-accessibility-advisory-committee-hybrid-meeting-18/2026-09-24/
LOCATION:Bend City Council Chambers\, 710 NW Wall Street\, Bend\, 97701\, United States
END:VEVENT
BEGIN:VEVENT
DTSTART;TZID=America/Los_Angeles:20261022T130000
DTEND;TZID=America/Los_Angeles:20261022T143000
DTSTAMP:20260423T224946
CREATED:20251219T180328Z
LAST-MODIFIED:20251219T180328Z
UID:10004271-1792674000-1792679400@bendoregon.gov
SUMMARY:City of Bend Accessibility Advisory Committee Hybrid Meeting
DESCRIPTION:The information and links for this meeting are uploaded closer to the meeting date. \nHybrid Meeting Notice:\nThe City of Bend Accessibility Advisory Committee (COBAAC) will conduct its hybrid meetings through Zoom and in person in Council Chambers\, 710 NW Wall Street\, from 1:00 to 2:30 PM. \nTo Attend by Computer\, Pre-Register: You will receive an email confirmation with a personalized link with information to connect by computer and phone. \nTo Attend by Phone\, No Registration Required: \n\nDial Toll-Free: 1-888-788-0099\nWebinar ID: will update\nPasscode (if prompted): 262222 (COBAAC)\n\nCOBAAC Meeting\, live at 1:00 PM. \nTechnical Difficulties Connecting to the meeting: Call 541-410-9341 \nFor additional information: Please contact the Accessibility Manager // COBAAC Liaison\, Cassandra Kehoe\, She\, Her\, Ella\, at ckehoe@bendoregon.gov or call 541-693-2141. \nLanguage Assistance Services and Accommodation Information for People with Disabilities:\nYou can obtain this information in alternative formats such as Braille\, electronic format\, etc. Free language services are also available. Please contact the Accessibility Department at accessibility@bendoregon.gov or call 541-693-2141. Relay users Dial 7-1-1. Contacting us with your accommodations 24 to 72 hours in advance will help us procure your request. \nServicios de asistencia lingüística e información sobre alojamiento para personas con discapacidad:\nPuede obtener esta información en formatos alternativos como Braille\, formato electrónico\, etc. También disponemos de servicios gratuitos de asistencia lingüística. Póngase en contacto con Gestor del proyecto o creador del documento en correo electrónico equity@bendoregon.gov o número de teléfono 541-323- 8563. Los usuarios del servicio de retransmisión deben marcar el 7-1-1.
URL:https://bendoregon.gov/event/city-of-bend-accessibility-advisory-committee-hybrid-meeting-18/2026-10-22/
LOCATION:Bend City Council Chambers\, 710 NW Wall Street\, Bend\, 97701\, United States
END:VEVENT
BEGIN:VEVENT
DTSTART;TZID=America/Los_Angeles:20261126T130000
DTEND;TZID=America/Los_Angeles:20261126T143000
DTSTAMP:20260423T224946
CREATED:20251219T180328Z
LAST-MODIFIED:20251219T180328Z
UID:10004272-1795698000-1795703400@bendoregon.gov
SUMMARY:City of Bend Accessibility Advisory Committee Hybrid Meeting
DESCRIPTION:The information and links for this meeting are uploaded closer to the meeting date. \nHybrid Meeting Notice:\nThe City of Bend Accessibility Advisory Committee (COBAAC) will conduct its hybrid meetings through Zoom and in person in Council Chambers\, 710 NW Wall Street\, from 1:00 to 2:30 PM. \nTo Attend by Computer\, Pre-Register: You will receive an email confirmation with a personalized link with information to connect by computer and phone. \nTo Attend by Phone\, No Registration Required: \n\nDial Toll-Free: 1-888-788-0099\nWebinar ID: will update\nPasscode (if prompted): 262222 (COBAAC)\n\nCOBAAC Meeting\, live at 1:00 PM. \nTechnical Difficulties Connecting to the meeting: Call 541-410-9341 \nFor additional information: Please contact the Accessibility Manager // COBAAC Liaison\, Cassandra Kehoe\, She\, Her\, Ella\, at ckehoe@bendoregon.gov or call 541-693-2141. \nLanguage Assistance Services and Accommodation Information for People with Disabilities:\nYou can obtain this information in alternative formats such as Braille\, electronic format\, etc. Free language services are also available. Please contact the Accessibility Department at accessibility@bendoregon.gov or call 541-693-2141. Relay users Dial 7-1-1. Contacting us with your accommodations 24 to 72 hours in advance will help us procure your request. \nServicios de asistencia lingüística e información sobre alojamiento para personas con discapacidad:\nPuede obtener esta información en formatos alternativos como Braille\, formato electrónico\, etc. También disponemos de servicios gratuitos de asistencia lingüística. Póngase en contacto con Gestor del proyecto o creador del documento en correo electrónico equity@bendoregon.gov o número de teléfono 541-323- 8563. Los usuarios del servicio de retransmisión deben marcar el 7-1-1.
URL:https://bendoregon.gov/event/city-of-bend-accessibility-advisory-committee-hybrid-meeting-18/2026-11-26/
LOCATION:Bend City Council Chambers\, 710 NW Wall Street\, Bend\, 97701\, United States
END:VEVENT
BEGIN:VEVENT
DTSTART;TZID=America/Los_Angeles:20261224T130000
DTEND;TZID=America/Los_Angeles:20261224T143000
DTSTAMP:20260423T224946
CREATED:20251219T180328Z
LAST-MODIFIED:20251219T180328Z
UID:10004273-1798117200-1798122600@bendoregon.gov
SUMMARY:City of Bend Accessibility Advisory Committee Hybrid Meeting
DESCRIPTION:The information and links for this meeting are uploaded closer to the meeting date. \nHybrid Meeting Notice:\nThe City of Bend Accessibility Advisory Committee (COBAAC) will conduct its hybrid meetings through Zoom and in person in Council Chambers\, 710 NW Wall Street\, from 1:00 to 2:30 PM. \nTo Attend by Computer\, Pre-Register: You will receive an email confirmation with a personalized link with information to connect by computer and phone. \nTo Attend by Phone\, No Registration Required: \n\nDial Toll-Free: 1-888-788-0099\nWebinar ID: will update\nPasscode (if prompted): 262222 (COBAAC)\n\nCOBAAC Meeting\, live at 1:00 PM. \nTechnical Difficulties Connecting to the meeting: Call 541-410-9341 \nFor additional information: Please contact the Accessibility Manager // COBAAC Liaison\, Cassandra Kehoe\, She\, Her\, Ella\, at ckehoe@bendoregon.gov or call 541-693-2141. \nLanguage Assistance Services and Accommodation Information for People with Disabilities:\nYou can obtain this information in alternative formats such as Braille\, electronic format\, etc. Free language services are also available. Please contact the Accessibility Department at accessibility@bendoregon.gov or call 541-693-2141. Relay users Dial 7-1-1. Contacting us with your accommodations 24 to 72 hours in advance will help us procure your request. \nServicios de asistencia lingüística e información sobre alojamiento para personas con discapacidad:\nPuede obtener esta información en formatos alternativos como Braille\, formato electrónico\, etc. También disponemos de servicios gratuitos de asistencia lingüística. Póngase en contacto con Gestor del proyecto o creador del documento en correo electrónico equity@bendoregon.gov o número de teléfono 541-323- 8563. Los usuarios del servicio de retransmisión deben marcar el 7-1-1.
URL:https://bendoregon.gov/event/city-of-bend-accessibility-advisory-committee-hybrid-meeting-18/2026-12-24/
LOCATION:Bend City Council Chambers\, 710 NW Wall Street\, Bend\, 97701\, United States
END:VEVENT
END:VCALENDAR