BEGIN:VCALENDAR
VERSION:2.0
PRODID:-//City of Bend - ECPv6.15.20//NONSGML v1.0//EN
CALSCALE:GREGORIAN
METHOD:PUBLISH
X-ORIGINAL-URL:https://bendoregon.gov
X-WR-CALDESC:Events for City of Bend
REFRESH-INTERVAL;VALUE=DURATION:PT1H
X-Robots-Tag:noindex
X-PUBLISHED-TTL:PT1H
BEGIN:VTIMEZONE
TZID:America/Los_Angeles
BEGIN:DAYLIGHT
TZOFFSETFROM:-0800
TZOFFSETTO:-0700
TZNAME:PDT
DTSTART:20250309T100000
END:DAYLIGHT
BEGIN:STANDARD
TZOFFSETFROM:-0700
TZOFFSETTO:-0800
TZNAME:PST
DTSTART:20251102T090000
END:STANDARD
BEGIN:DAYLIGHT
TZOFFSETFROM:-0800
TZOFFSETTO:-0700
TZNAME:PDT
DTSTART:20260308T100000
END:DAYLIGHT
BEGIN:STANDARD
TZOFFSETFROM:-0700
TZOFFSETTO:-0800
TZNAME:PST
DTSTART:20261101T090000
END:STANDARD
BEGIN:DAYLIGHT
TZOFFSETFROM:-0800
TZOFFSETTO:-0700
TZNAME:PDT
DTSTART:20270314T100000
END:DAYLIGHT
BEGIN:STANDARD
TZOFFSETFROM:-0700
TZOFFSETTO:-0800
TZNAME:PST
DTSTART:20271107T090000
END:STANDARD
END:VTIMEZONE
BEGIN:VEVENT
DTSTART;TZID=America/Los_Angeles:20261026T173000
DTEND;TZID=America/Los_Angeles:20261026T200000
DTSTAMP:20260424T021026
CREATED:20251219T165426Z
LAST-MODIFIED:20260121T003442Z
UID:10004200-1793035800-1793044800@bendoregon.gov
SUMMARY:Planning Commission
DESCRIPTION:The meeting convenes at 5:30PM on a hybrid\, in-person and virtual Zoom platform. \nJoin the meeting using the following options: \nIn-person location: City Hall\, Council Chambers\, 710 NW Wall Street\, Bend\, OR 97703 \nRegister via Zoom Online Meeting Link:  TBD \nYou can also copy and paste the Zoom link into your browser. \nCall in Phone Number:1- 888-788-0099 \nWebinar ID: TBD \nPasscode: TBD \nThe public is invited to watch on-line at: YouTube link TBD \nPlease click to view the meeting agenda: TBD
URL:https://bendoregon.gov/event/planning-commission-154/2026-10-26/
LOCATION:Bend City Council Chambers\, 710 NW Wall Street\, Bend\, 97701\, United States
CATEGORIES:Planning Commission
END:VEVENT
BEGIN:VEVENT
DTSTART;TZID=America/Los_Angeles:20261109T173000
DTEND;TZID=America/Los_Angeles:20261109T200000
DTSTAMP:20260424T021026
CREATED:20251219T165514Z
LAST-MODIFIED:20260121T204115Z
UID:10004224-1794245400-1794254400@bendoregon.gov
SUMMARY:Planning Commission
DESCRIPTION:The meeting convenes at 5:30PM on a hybrid\, in-person and virtual Zoom platform. \nJoin the meeting using the following options: \nIn-person location: City Hall\, Council Chambers\, 710 NW Wall Street\, Bend\, OR 97703 \nRegister via Zoom Online Meeting Link:  TBD \nYou can also copy and paste the Zoom link into your browser. \nCall in Phone Number:1- 888-788-0099 \nWebinar ID: TBD \nPasscode: TBD \nThe public is invited to watch on-line at: YouTube link TBD \nPlease click to view the meeting agenda: TBD
URL:https://bendoregon.gov/event/planning-commission-155/2026-11-09/
LOCATION:Bend City Council Chambers\, 710 NW Wall Street\, Bend\, 97701\, United States
CATEGORIES:Planning Commission
END:VEVENT
BEGIN:VEVENT
DTSTART;TZID=America/Los_Angeles:20261123T173000
DTEND;TZID=America/Los_Angeles:20261123T200000
DTSTAMP:20260424T021026
CREATED:20251219T165426Z
LAST-MODIFIED:20260121T003442Z
UID:10004201-1795455000-1795464000@bendoregon.gov
SUMMARY:Planning Commission
DESCRIPTION:The meeting convenes at 5:30PM on a hybrid\, in-person and virtual Zoom platform. \nJoin the meeting using the following options: \nIn-person location: City Hall\, Council Chambers\, 710 NW Wall Street\, Bend\, OR 97703 \nRegister via Zoom Online Meeting Link:  TBD \nYou can also copy and paste the Zoom link into your browser. \nCall in Phone Number:1- 888-788-0099 \nWebinar ID: TBD \nPasscode: TBD \nThe public is invited to watch on-line at: YouTube link TBD \nPlease click to view the meeting agenda: TBD
URL:https://bendoregon.gov/event/planning-commission-154/2026-11-23/
LOCATION:Bend City Council Chambers\, 710 NW Wall Street\, Bend\, 97701\, United States
CATEGORIES:Planning Commission
END:VEVENT
BEGIN:VEVENT
DTSTART;TZID=America/Los_Angeles:20261214T173000
DTEND;TZID=America/Los_Angeles:20261214T200000
DTSTAMP:20260424T021026
CREATED:20251219T165514Z
LAST-MODIFIED:20260121T204115Z
UID:10004367-1797269400-1797278400@bendoregon.gov
SUMMARY:Planning Commission
DESCRIPTION:The meeting convenes at 5:30PM on a hybrid\, in-person and virtual Zoom platform. \nJoin the meeting using the following options: \nIn-person location: City Hall\, Council Chambers\, 710 NW Wall Street\, Bend\, OR 97703 \nRegister via Zoom Online Meeting Link:  TBD \nYou can also copy and paste the Zoom link into your browser. \nCall in Phone Number:1- 888-788-0099 \nWebinar ID: TBD \nPasscode: TBD \nThe public is invited to watch on-line at: YouTube link TBD \nPlease click to view the meeting agenda: TBD
URL:https://bendoregon.gov/event/planning-commission-155/2026-12-14/
LOCATION:Bend City Council Chambers\, 710 NW Wall Street\, Bend\, 97701\, United States
CATEGORIES:Planning Commission
END:VEVENT
END:VCALENDAR