BEGIN:VCALENDAR
VERSION:2.0
PRODID:-//City of Bend - ECPv6.15.20//NONSGML v1.0//EN
CALSCALE:GREGORIAN
METHOD:PUBLISH
X-WR-CALNAME:City of Bend
X-ORIGINAL-URL:https://bendoregon.gov
X-WR-CALDESC:Events for City of Bend
REFRESH-INTERVAL;VALUE=DURATION:PT1H
X-Robots-Tag:noindex
X-PUBLISHED-TTL:PT1H
BEGIN:VTIMEZONE
TZID:America/Los_Angeles
BEGIN:DAYLIGHT
TZOFFSETFROM:-0800
TZOFFSETTO:-0700
TZNAME:PDT
DTSTART:20280312T100000
END:DAYLIGHT
BEGIN:STANDARD
TZOFFSETFROM:-0700
TZOFFSETTO:-0800
TZNAME:PST
DTSTART:20281105T090000
END:STANDARD
BEGIN:DAYLIGHT
TZOFFSETFROM:-0800
TZOFFSETTO:-0700
TZNAME:PDT
DTSTART:20290311T100000
END:DAYLIGHT
BEGIN:STANDARD
TZOFFSETFROM:-0700
TZOFFSETTO:-0800
TZNAME:PST
DTSTART:20291104T090000
END:STANDARD
BEGIN:DAYLIGHT
TZOFFSETFROM:-0800
TZOFFSETTO:-0700
TZNAME:PDT
DTSTART:20300310T100000
END:DAYLIGHT
BEGIN:STANDARD
TZOFFSETFROM:-0700
TZOFFSETTO:-0800
TZNAME:PST
DTSTART:20301103T090000
END:STANDARD
BEGIN:DAYLIGHT
TZOFFSETFROM:-0800
TZOFFSETTO:-0700
TZNAME:PDT
DTSTART:20310309T100000
END:DAYLIGHT
BEGIN:STANDARD
TZOFFSETFROM:-0700
TZOFFSETTO:-0800
TZNAME:PST
DTSTART:20311102T090000
END:STANDARD
BEGIN:DAYLIGHT
TZOFFSETFROM:-0800
TZOFFSETTO:-0700
TZNAME:PDT
DTSTART:20320314T100000
END:DAYLIGHT
BEGIN:STANDARD
TZOFFSETFROM:-0700
TZOFFSETTO:-0800
TZNAME:PST
DTSTART:20321107T090000
END:STANDARD
END:VTIMEZONE
BEGIN:VEVENT
DTSTART;TZID=America/Los_Angeles:20290507T120000
DTEND;TZID=America/Los_Angeles:20290507T140000
DTSTAMP:20260424T090514
CREATED:20260126T203811Z
LAST-MODIFIED:20260126T203811Z
UID:10004322-1872849600-1872856800@bendoregon.gov
SUMMARY:Bend Economic Development Advisory Board (BEDAB)
DESCRIPTION:The Bend Economic Development Advisory Board (BEDAB) will conduct a hybrid meeting through Zoom and in person in the Council Chambers at 710 NW Wall Street\, Bend\, OR 97703\, from noon to 2:00 pm. \nRegular Attendees-Zoom Link \nTo Attend by Phone: \n\nCall-in Phone Number: 1-888-788-0099\nWebinar ID: 850 5295 7871#\nPasscode: 812138 \n\nYouTube Link: Livestream link will be posted closer to the meeting date \nAgenda will be posted closer to the meeting date \nTechnical Difficulties Connecting to this Meeting: Call 541-410-9341.
URL:https://bendoregon.gov/event/bend-economic-development-advisory-board-bedab-11-2/2029-05-07/
LOCATION:Council Chambers (City Hall)\, 710 NW Wall St\, Bend\, 97703\, United States
END:VEVENT
BEGIN:VEVENT
DTSTART;TZID=America/Los_Angeles:20290604T120000
DTEND;TZID=America/Los_Angeles:20290604T140000
DTSTAMP:20260424T090514
CREATED:20260126T203811Z
LAST-MODIFIED:20260126T203811Z
UID:10004323-1875268800-1875276000@bendoregon.gov
SUMMARY:Bend Economic Development Advisory Board (BEDAB)
DESCRIPTION:The Bend Economic Development Advisory Board (BEDAB) will conduct a hybrid meeting through Zoom and in person in the Council Chambers at 710 NW Wall Street\, Bend\, OR 97703\, from noon to 2:00 pm. \nRegular Attendees-Zoom Link \nTo Attend by Phone: \n\nCall-in Phone Number: 1-888-788-0099\nWebinar ID: 850 5295 7871#\nPasscode: 812138 \n\nYouTube Link: Livestream link will be posted closer to the meeting date \nAgenda will be posted closer to the meeting date \nTechnical Difficulties Connecting to this Meeting: Call 541-410-9341.
URL:https://bendoregon.gov/event/bend-economic-development-advisory-board-bedab-11-2/2029-06-04/
LOCATION:Council Chambers (City Hall)\, 710 NW Wall St\, Bend\, 97703\, United States
END:VEVENT
BEGIN:VEVENT
DTSTART;TZID=America/Los_Angeles:20290702T120000
DTEND;TZID=America/Los_Angeles:20290702T140000
DTSTAMP:20260424T090514
CREATED:20260126T203811Z
LAST-MODIFIED:20260126T203811Z
UID:10004324-1877688000-1877695200@bendoregon.gov
SUMMARY:Bend Economic Development Advisory Board (BEDAB)
DESCRIPTION:The Bend Economic Development Advisory Board (BEDAB) will conduct a hybrid meeting through Zoom and in person in the Council Chambers at 710 NW Wall Street\, Bend\, OR 97703\, from noon to 2:00 pm. \nRegular Attendees-Zoom Link \nTo Attend by Phone: \n\nCall-in Phone Number: 1-888-788-0099\nWebinar ID: 850 5295 7871#\nPasscode: 812138 \n\nYouTube Link: Livestream link will be posted closer to the meeting date \nAgenda will be posted closer to the meeting date \nTechnical Difficulties Connecting to this Meeting: Call 541-410-9341.
URL:https://bendoregon.gov/event/bend-economic-development-advisory-board-bedab-11-2/2029-07-02/
LOCATION:Council Chambers (City Hall)\, 710 NW Wall St\, Bend\, 97703\, United States
END:VEVENT
BEGIN:VEVENT
DTSTART;TZID=America/Los_Angeles:20290806T120000
DTEND;TZID=America/Los_Angeles:20290806T140000
DTSTAMP:20260424T090514
CREATED:20260126T203811Z
LAST-MODIFIED:20260126T203811Z
UID:10004325-1880712000-1880719200@bendoregon.gov
SUMMARY:Bend Economic Development Advisory Board (BEDAB)
DESCRIPTION:The Bend Economic Development Advisory Board (BEDAB) will conduct a hybrid meeting through Zoom and in person in the Council Chambers at 710 NW Wall Street\, Bend\, OR 97703\, from noon to 2:00 pm. \nRegular Attendees-Zoom Link \nTo Attend by Phone: \n\nCall-in Phone Number: 1-888-788-0099\nWebinar ID: 850 5295 7871#\nPasscode: 812138 \n\nYouTube Link: Livestream link will be posted closer to the meeting date \nAgenda will be posted closer to the meeting date \nTechnical Difficulties Connecting to this Meeting: Call 541-410-9341.
URL:https://bendoregon.gov/event/bend-economic-development-advisory-board-bedab-11-2/2029-08-06/
LOCATION:Council Chambers (City Hall)\, 710 NW Wall St\, Bend\, 97703\, United States
END:VEVENT
BEGIN:VEVENT
DTSTART;TZID=America/Los_Angeles:20290903T120000
DTEND;TZID=America/Los_Angeles:20290903T140000
DTSTAMP:20260424T090514
CREATED:20260126T203811Z
LAST-MODIFIED:20260126T203811Z
UID:10004326-1883131200-1883138400@bendoregon.gov
SUMMARY:Bend Economic Development Advisory Board (BEDAB)
DESCRIPTION:The Bend Economic Development Advisory Board (BEDAB) will conduct a hybrid meeting through Zoom and in person in the Council Chambers at 710 NW Wall Street\, Bend\, OR 97703\, from noon to 2:00 pm. \nRegular Attendees-Zoom Link \nTo Attend by Phone: \n\nCall-in Phone Number: 1-888-788-0099\nWebinar ID: 850 5295 7871#\nPasscode: 812138 \n\nYouTube Link: Livestream link will be posted closer to the meeting date \nAgenda will be posted closer to the meeting date \nTechnical Difficulties Connecting to this Meeting: Call 541-410-9341.
URL:https://bendoregon.gov/event/bend-economic-development-advisory-board-bedab-11-2/2029-09-03/
LOCATION:Council Chambers (City Hall)\, 710 NW Wall St\, Bend\, 97703\, United States
END:VEVENT
BEGIN:VEVENT
DTSTART;TZID=America/Los_Angeles:20291001T120000
DTEND;TZID=America/Los_Angeles:20291001T140000
DTSTAMP:20260424T090514
CREATED:20260126T203811Z
LAST-MODIFIED:20260126T203811Z
UID:10004327-1885550400-1885557600@bendoregon.gov
SUMMARY:Bend Economic Development Advisory Board (BEDAB)
DESCRIPTION:The Bend Economic Development Advisory Board (BEDAB) will conduct a hybrid meeting through Zoom and in person in the Council Chambers at 710 NW Wall Street\, Bend\, OR 97703\, from noon to 2:00 pm. \nRegular Attendees-Zoom Link \nTo Attend by Phone: \n\nCall-in Phone Number: 1-888-788-0099\nWebinar ID: 850 5295 7871#\nPasscode: 812138 \n\nYouTube Link: Livestream link will be posted closer to the meeting date \nAgenda will be posted closer to the meeting date \nTechnical Difficulties Connecting to this Meeting: Call 541-410-9341.
URL:https://bendoregon.gov/event/bend-economic-development-advisory-board-bedab-11-2/2029-10-01/
LOCATION:Council Chambers (City Hall)\, 710 NW Wall St\, Bend\, 97703\, United States
END:VEVENT
BEGIN:VEVENT
DTSTART;TZID=America/Los_Angeles:20291105T120000
DTEND;TZID=America/Los_Angeles:20291105T140000
DTSTAMP:20260424T090514
CREATED:20260126T203811Z
LAST-MODIFIED:20260126T203811Z
UID:10004328-1888574400-1888581600@bendoregon.gov
SUMMARY:Bend Economic Development Advisory Board (BEDAB)
DESCRIPTION:The Bend Economic Development Advisory Board (BEDAB) will conduct a hybrid meeting through Zoom and in person in the Council Chambers at 710 NW Wall Street\, Bend\, OR 97703\, from noon to 2:00 pm. \nRegular Attendees-Zoom Link \nTo Attend by Phone: \n\nCall-in Phone Number: 1-888-788-0099\nWebinar ID: 850 5295 7871#\nPasscode: 812138 \n\nYouTube Link: Livestream link will be posted closer to the meeting date \nAgenda will be posted closer to the meeting date \nTechnical Difficulties Connecting to this Meeting: Call 541-410-9341.
URL:https://bendoregon.gov/event/bend-economic-development-advisory-board-bedab-11-2/2029-11-05/
LOCATION:Council Chambers (City Hall)\, 710 NW Wall St\, Bend\, 97703\, United States
END:VEVENT
BEGIN:VEVENT
DTSTART;TZID=America/Los_Angeles:20291203T120000
DTEND;TZID=America/Los_Angeles:20291203T140000
DTSTAMP:20260424T090514
CREATED:20260126T203811Z
LAST-MODIFIED:20260126T203811Z
UID:10004329-1890993600-1891000800@bendoregon.gov
SUMMARY:Bend Economic Development Advisory Board (BEDAB)
DESCRIPTION:The Bend Economic Development Advisory Board (BEDAB) will conduct a hybrid meeting through Zoom and in person in the Council Chambers at 710 NW Wall Street\, Bend\, OR 97703\, from noon to 2:00 pm. \nRegular Attendees-Zoom Link \nTo Attend by Phone: \n\nCall-in Phone Number: 1-888-788-0099\nWebinar ID: 850 5295 7871#\nPasscode: 812138 \n\nYouTube Link: Livestream link will be posted closer to the meeting date \nAgenda will be posted closer to the meeting date \nTechnical Difficulties Connecting to this Meeting: Call 541-410-9341.
URL:https://bendoregon.gov/event/bend-economic-development-advisory-board-bedab-11-2/2029-12-03/
LOCATION:Council Chambers (City Hall)\, 710 NW Wall St\, Bend\, 97703\, United States
END:VEVENT
BEGIN:VEVENT
DTSTART;TZID=America/Los_Angeles:20300107T120000
DTEND;TZID=America/Los_Angeles:20300107T140000
DTSTAMP:20260424T090514
CREATED:20260126T203811Z
LAST-MODIFIED:20260126T203811Z
UID:10004330-1894017600-1894024800@bendoregon.gov
SUMMARY:Bend Economic Development Advisory Board (BEDAB)
DESCRIPTION:The Bend Economic Development Advisory Board (BEDAB) will conduct a hybrid meeting through Zoom and in person in the Council Chambers at 710 NW Wall Street\, Bend\, OR 97703\, from noon to 2:00 pm. \nRegular Attendees-Zoom Link \nTo Attend by Phone: \n\nCall-in Phone Number: 1-888-788-0099\nWebinar ID: 850 5295 7871#\nPasscode: 812138 \n\nYouTube Link: Livestream link will be posted closer to the meeting date \nAgenda will be posted closer to the meeting date \nTechnical Difficulties Connecting to this Meeting: Call 541-410-9341.
URL:https://bendoregon.gov/event/bend-economic-development-advisory-board-bedab-11-2/2030-01-07/
LOCATION:Council Chambers (City Hall)\, 710 NW Wall St\, Bend\, 97703\, United States
END:VEVENT
BEGIN:VEVENT
DTSTART;TZID=America/Los_Angeles:20300204T120000
DTEND;TZID=America/Los_Angeles:20300204T140000
DTSTAMP:20260424T090514
CREATED:20260126T203811Z
LAST-MODIFIED:20260126T203811Z
UID:10004331-1896436800-1896444000@bendoregon.gov
SUMMARY:Bend Economic Development Advisory Board (BEDAB)
DESCRIPTION:The Bend Economic Development Advisory Board (BEDAB) will conduct a hybrid meeting through Zoom and in person in the Council Chambers at 710 NW Wall Street\, Bend\, OR 97703\, from noon to 2:00 pm. \nRegular Attendees-Zoom Link \nTo Attend by Phone: \n\nCall-in Phone Number: 1-888-788-0099\nWebinar ID: 850 5295 7871#\nPasscode: 812138 \n\nYouTube Link: Livestream link will be posted closer to the meeting date \nAgenda will be posted closer to the meeting date \nTechnical Difficulties Connecting to this Meeting: Call 541-410-9341.
URL:https://bendoregon.gov/event/bend-economic-development-advisory-board-bedab-11-2/2030-02-04/
LOCATION:Council Chambers (City Hall)\, 710 NW Wall St\, Bend\, 97703\, United States
END:VEVENT
BEGIN:VEVENT
DTSTART;TZID=America/Los_Angeles:20300304T120000
DTEND;TZID=America/Los_Angeles:20300304T140000
DTSTAMP:20260424T090514
CREATED:20260126T203811Z
LAST-MODIFIED:20260126T203811Z
UID:10004332-1898856000-1898863200@bendoregon.gov
SUMMARY:Bend Economic Development Advisory Board (BEDAB)
DESCRIPTION:The Bend Economic Development Advisory Board (BEDAB) will conduct a hybrid meeting through Zoom and in person in the Council Chambers at 710 NW Wall Street\, Bend\, OR 97703\, from noon to 2:00 pm. \nRegular Attendees-Zoom Link \nTo Attend by Phone: \n\nCall-in Phone Number: 1-888-788-0099\nWebinar ID: 850 5295 7871#\nPasscode: 812138 \n\nYouTube Link: Livestream link will be posted closer to the meeting date \nAgenda will be posted closer to the meeting date \nTechnical Difficulties Connecting to this Meeting: Call 541-410-9341.
URL:https://bendoregon.gov/event/bend-economic-development-advisory-board-bedab-11-2/2030-03-04/
LOCATION:Council Chambers (City Hall)\, 710 NW Wall St\, Bend\, 97703\, United States
END:VEVENT
BEGIN:VEVENT
DTSTART;TZID=America/Los_Angeles:20300401T120000
DTEND;TZID=America/Los_Angeles:20300401T140000
DTSTAMP:20260424T090514
CREATED:20260126T203811Z
LAST-MODIFIED:20260126T203811Z
UID:10004333-1901275200-1901282400@bendoregon.gov
SUMMARY:Bend Economic Development Advisory Board (BEDAB)
DESCRIPTION:The Bend Economic Development Advisory Board (BEDAB) will conduct a hybrid meeting through Zoom and in person in the Council Chambers at 710 NW Wall Street\, Bend\, OR 97703\, from noon to 2:00 pm. \nRegular Attendees-Zoom Link \nTo Attend by Phone: \n\nCall-in Phone Number: 1-888-788-0099\nWebinar ID: 850 5295 7871#\nPasscode: 812138 \n\nYouTube Link: Livestream link will be posted closer to the meeting date \nAgenda will be posted closer to the meeting date \nTechnical Difficulties Connecting to this Meeting: Call 541-410-9341.
URL:https://bendoregon.gov/event/bend-economic-development-advisory-board-bedab-11-2/2030-04-01/
LOCATION:Council Chambers (City Hall)\, 710 NW Wall St\, Bend\, 97703\, United States
END:VEVENT
BEGIN:VEVENT
DTSTART;TZID=America/Los_Angeles:20300506T120000
DTEND;TZID=America/Los_Angeles:20300506T140000
DTSTAMP:20260424T090514
CREATED:20260126T203811Z
LAST-MODIFIED:20260126T203811Z
UID:10004334-1904299200-1904306400@bendoregon.gov
SUMMARY:Bend Economic Development Advisory Board (BEDAB)
DESCRIPTION:The Bend Economic Development Advisory Board (BEDAB) will conduct a hybrid meeting through Zoom and in person in the Council Chambers at 710 NW Wall Street\, Bend\, OR 97703\, from noon to 2:00 pm. \nRegular Attendees-Zoom Link \nTo Attend by Phone: \n\nCall-in Phone Number: 1-888-788-0099\nWebinar ID: 850 5295 7871#\nPasscode: 812138 \n\nYouTube Link: Livestream link will be posted closer to the meeting date \nAgenda will be posted closer to the meeting date \nTechnical Difficulties Connecting to this Meeting: Call 541-410-9341.
URL:https://bendoregon.gov/event/bend-economic-development-advisory-board-bedab-11-2/2030-05-06/
LOCATION:Council Chambers (City Hall)\, 710 NW Wall St\, Bend\, 97703\, United States
END:VEVENT
BEGIN:VEVENT
DTSTART;TZID=America/Los_Angeles:20300603T120000
DTEND;TZID=America/Los_Angeles:20300603T140000
DTSTAMP:20260424T090514
CREATED:20260126T203811Z
LAST-MODIFIED:20260126T203811Z
UID:10004335-1906718400-1906725600@bendoregon.gov
SUMMARY:Bend Economic Development Advisory Board (BEDAB)
DESCRIPTION:The Bend Economic Development Advisory Board (BEDAB) will conduct a hybrid meeting through Zoom and in person in the Council Chambers at 710 NW Wall Street\, Bend\, OR 97703\, from noon to 2:00 pm. \nRegular Attendees-Zoom Link \nTo Attend by Phone: \n\nCall-in Phone Number: 1-888-788-0099\nWebinar ID: 850 5295 7871#\nPasscode: 812138 \n\nYouTube Link: Livestream link will be posted closer to the meeting date \nAgenda will be posted closer to the meeting date \nTechnical Difficulties Connecting to this Meeting: Call 541-410-9341.
URL:https://bendoregon.gov/event/bend-economic-development-advisory-board-bedab-11-2/2030-06-03/
LOCATION:Council Chambers (City Hall)\, 710 NW Wall St\, Bend\, 97703\, United States
END:VEVENT
BEGIN:VEVENT
DTSTART;TZID=America/Los_Angeles:20300701T120000
DTEND;TZID=America/Los_Angeles:20300701T140000
DTSTAMP:20260424T090514
CREATED:20260126T203811Z
LAST-MODIFIED:20260126T203811Z
UID:10004336-1909137600-1909144800@bendoregon.gov
SUMMARY:Bend Economic Development Advisory Board (BEDAB)
DESCRIPTION:The Bend Economic Development Advisory Board (BEDAB) will conduct a hybrid meeting through Zoom and in person in the Council Chambers at 710 NW Wall Street\, Bend\, OR 97703\, from noon to 2:00 pm. \nRegular Attendees-Zoom Link \nTo Attend by Phone: \n\nCall-in Phone Number: 1-888-788-0099\nWebinar ID: 850 5295 7871#\nPasscode: 812138 \n\nYouTube Link: Livestream link will be posted closer to the meeting date \nAgenda will be posted closer to the meeting date \nTechnical Difficulties Connecting to this Meeting: Call 541-410-9341.
URL:https://bendoregon.gov/event/bend-economic-development-advisory-board-bedab-11-2/2030-07-01/
LOCATION:Council Chambers (City Hall)\, 710 NW Wall St\, Bend\, 97703\, United States
END:VEVENT
BEGIN:VEVENT
DTSTART;TZID=America/Los_Angeles:20300805T120000
DTEND;TZID=America/Los_Angeles:20300805T140000
DTSTAMP:20260424T090514
CREATED:20260126T203811Z
LAST-MODIFIED:20260126T203811Z
UID:10004337-1912161600-1912168800@bendoregon.gov
SUMMARY:Bend Economic Development Advisory Board (BEDAB)
DESCRIPTION:The Bend Economic Development Advisory Board (BEDAB) will conduct a hybrid meeting through Zoom and in person in the Council Chambers at 710 NW Wall Street\, Bend\, OR 97703\, from noon to 2:00 pm. \nRegular Attendees-Zoom Link \nTo Attend by Phone: \n\nCall-in Phone Number: 1-888-788-0099\nWebinar ID: 850 5295 7871#\nPasscode: 812138 \n\nYouTube Link: Livestream link will be posted closer to the meeting date \nAgenda will be posted closer to the meeting date \nTechnical Difficulties Connecting to this Meeting: Call 541-410-9341.
URL:https://bendoregon.gov/event/bend-economic-development-advisory-board-bedab-11-2/2030-08-05/
LOCATION:Council Chambers (City Hall)\, 710 NW Wall St\, Bend\, 97703\, United States
END:VEVENT
BEGIN:VEVENT
DTSTART;TZID=America/Los_Angeles:20300902T120000
DTEND;TZID=America/Los_Angeles:20300902T140000
DTSTAMP:20260424T090514
CREATED:20260126T203811Z
LAST-MODIFIED:20260126T203811Z
UID:10004338-1914580800-1914588000@bendoregon.gov
SUMMARY:Bend Economic Development Advisory Board (BEDAB)
DESCRIPTION:The Bend Economic Development Advisory Board (BEDAB) will conduct a hybrid meeting through Zoom and in person in the Council Chambers at 710 NW Wall Street\, Bend\, OR 97703\, from noon to 2:00 pm. \nRegular Attendees-Zoom Link \nTo Attend by Phone: \n\nCall-in Phone Number: 1-888-788-0099\nWebinar ID: 850 5295 7871#\nPasscode: 812138 \n\nYouTube Link: Livestream link will be posted closer to the meeting date \nAgenda will be posted closer to the meeting date \nTechnical Difficulties Connecting to this Meeting: Call 541-410-9341.
URL:https://bendoregon.gov/event/bend-economic-development-advisory-board-bedab-11-2/2030-09-02/
LOCATION:Council Chambers (City Hall)\, 710 NW Wall St\, Bend\, 97703\, United States
END:VEVENT
BEGIN:VEVENT
DTSTART;TZID=America/Los_Angeles:20301007T120000
DTEND;TZID=America/Los_Angeles:20301007T140000
DTSTAMP:20260424T090514
CREATED:20260126T203811Z
LAST-MODIFIED:20260126T203811Z
UID:10004339-1917604800-1917612000@bendoregon.gov
SUMMARY:Bend Economic Development Advisory Board (BEDAB)
DESCRIPTION:The Bend Economic Development Advisory Board (BEDAB) will conduct a hybrid meeting through Zoom and in person in the Council Chambers at 710 NW Wall Street\, Bend\, OR 97703\, from noon to 2:00 pm. \nRegular Attendees-Zoom Link \nTo Attend by Phone: \n\nCall-in Phone Number: 1-888-788-0099\nWebinar ID: 850 5295 7871#\nPasscode: 812138 \n\nYouTube Link: Livestream link will be posted closer to the meeting date \nAgenda will be posted closer to the meeting date \nTechnical Difficulties Connecting to this Meeting: Call 541-410-9341.
URL:https://bendoregon.gov/event/bend-economic-development-advisory-board-bedab-11-2/2030-10-07/
LOCATION:Council Chambers (City Hall)\, 710 NW Wall St\, Bend\, 97703\, United States
END:VEVENT
BEGIN:VEVENT
DTSTART;TZID=America/Los_Angeles:20301104T120000
DTEND;TZID=America/Los_Angeles:20301104T140000
DTSTAMP:20260424T090514
CREATED:20260126T203811Z
LAST-MODIFIED:20260126T203811Z
UID:10004340-1920024000-1920031200@bendoregon.gov
SUMMARY:Bend Economic Development Advisory Board (BEDAB)
DESCRIPTION:The Bend Economic Development Advisory Board (BEDAB) will conduct a hybrid meeting through Zoom and in person in the Council Chambers at 710 NW Wall Street\, Bend\, OR 97703\, from noon to 2:00 pm. \nRegular Attendees-Zoom Link \nTo Attend by Phone: \n\nCall-in Phone Number: 1-888-788-0099\nWebinar ID: 850 5295 7871#\nPasscode: 812138 \n\nYouTube Link: Livestream link will be posted closer to the meeting date \nAgenda will be posted closer to the meeting date \nTechnical Difficulties Connecting to this Meeting: Call 541-410-9341.
URL:https://bendoregon.gov/event/bend-economic-development-advisory-board-bedab-11-2/2030-11-04/
LOCATION:Council Chambers (City Hall)\, 710 NW Wall St\, Bend\, 97703\, United States
END:VEVENT
BEGIN:VEVENT
DTSTART;TZID=America/Los_Angeles:20301202T120000
DTEND;TZID=America/Los_Angeles:20301202T140000
DTSTAMP:20260424T090514
CREATED:20260126T203811Z
LAST-MODIFIED:20260126T203811Z
UID:10004341-1922443200-1922450400@bendoregon.gov
SUMMARY:Bend Economic Development Advisory Board (BEDAB)
DESCRIPTION:The Bend Economic Development Advisory Board (BEDAB) will conduct a hybrid meeting through Zoom and in person in the Council Chambers at 710 NW Wall Street\, Bend\, OR 97703\, from noon to 2:00 pm. \nRegular Attendees-Zoom Link \nTo Attend by Phone: \n\nCall-in Phone Number: 1-888-788-0099\nWebinar ID: 850 5295 7871#\nPasscode: 812138 \n\nYouTube Link: Livestream link will be posted closer to the meeting date \nAgenda will be posted closer to the meeting date \nTechnical Difficulties Connecting to this Meeting: Call 541-410-9341.
URL:https://bendoregon.gov/event/bend-economic-development-advisory-board-bedab-11-2/2030-12-02/
LOCATION:Council Chambers (City Hall)\, 710 NW Wall St\, Bend\, 97703\, United States
END:VEVENT
BEGIN:VEVENT
DTSTART;TZID=America/Los_Angeles:20310106T120000
DTEND;TZID=America/Los_Angeles:20310106T140000
DTSTAMP:20260424T090514
CREATED:20260126T203811Z
LAST-MODIFIED:20260126T203811Z
UID:10004368-1925467200-1925474400@bendoregon.gov
SUMMARY:Bend Economic Development Advisory Board (BEDAB)
DESCRIPTION:The Bend Economic Development Advisory Board (BEDAB) will conduct a hybrid meeting through Zoom and in person in the Council Chambers at 710 NW Wall Street\, Bend\, OR 97703\, from noon to 2:00 pm. \nRegular Attendees-Zoom Link \nTo Attend by Phone: \n\nCall-in Phone Number: 1-888-788-0099\nWebinar ID: 850 5295 7871#\nPasscode: 812138 \n\nYouTube Link: Livestream link will be posted closer to the meeting date \nAgenda will be posted closer to the meeting date \nTechnical Difficulties Connecting to this Meeting: Call 541-410-9341.
URL:https://bendoregon.gov/event/bend-economic-development-advisory-board-bedab-11-2/2031-01-06/
LOCATION:Council Chambers (City Hall)\, 710 NW Wall St\, Bend\, 97703\, United States
END:VEVENT
BEGIN:VEVENT
DTSTART;TZID=America/Los_Angeles:20310203T120000
DTEND;TZID=America/Los_Angeles:20310203T140000
DTSTAMP:20260424T090514
CREATED:20260126T203811Z
LAST-MODIFIED:20260126T203811Z
UID:10004682-1927886400-1927893600@bendoregon.gov
SUMMARY:Bend Economic Development Advisory Board (BEDAB)
DESCRIPTION:The Bend Economic Development Advisory Board (BEDAB) will conduct a hybrid meeting through Zoom and in person in the Council Chambers at 710 NW Wall Street\, Bend\, OR 97703\, from noon to 2:00 pm. \nRegular Attendees-Zoom Link \nTo Attend by Phone: \n\nCall-in Phone Number: 1-888-788-0099\nWebinar ID: 850 5295 7871#\nPasscode: 812138 \n\nYouTube Link: Livestream link will be posted closer to the meeting date \nAgenda will be posted closer to the meeting date \nTechnical Difficulties Connecting to this Meeting: Call 541-410-9341.
URL:https://bendoregon.gov/event/bend-economic-development-advisory-board-bedab-11-2/2031-02-03/
LOCATION:Council Chambers (City Hall)\, 710 NW Wall St\, Bend\, 97703\, United States
END:VEVENT
BEGIN:VEVENT
DTSTART;TZID=America/Los_Angeles:20310303T120000
DTEND;TZID=America/Los_Angeles:20310303T140000
DTSTAMP:20260424T090514
CREATED:20260126T203811Z
LAST-MODIFIED:20260126T203811Z
UID:10004683-1930305600-1930312800@bendoregon.gov
SUMMARY:Bend Economic Development Advisory Board (BEDAB)
DESCRIPTION:The Bend Economic Development Advisory Board (BEDAB) will conduct a hybrid meeting through Zoom and in person in the Council Chambers at 710 NW Wall Street\, Bend\, OR 97703\, from noon to 2:00 pm. \nRegular Attendees-Zoom Link \nTo Attend by Phone: \n\nCall-in Phone Number: 1-888-788-0099\nWebinar ID: 850 5295 7871#\nPasscode: 812138 \n\nYouTube Link: Livestream link will be posted closer to the meeting date \nAgenda will be posted closer to the meeting date \nTechnical Difficulties Connecting to this Meeting: Call 541-410-9341.
URL:https://bendoregon.gov/event/bend-economic-development-advisory-board-bedab-11-2/2031-03-03/
LOCATION:Council Chambers (City Hall)\, 710 NW Wall St\, Bend\, 97703\, United States
END:VEVENT
END:VCALENDAR