BEGIN:VCALENDAR
VERSION:2.0
PRODID:-//City of Bend - ECPv6.15.20//NONSGML v1.0//EN
CALSCALE:GREGORIAN
METHOD:PUBLISH
X-WR-CALNAME:City of Bend
X-ORIGINAL-URL:https://bendoregon.gov
X-WR-CALDESC:Events for City of Bend
REFRESH-INTERVAL;VALUE=DURATION:PT1H
X-Robots-Tag:noindex
X-PUBLISHED-TTL:PT1H
BEGIN:VTIMEZONE
TZID:America/Los_Angeles
BEGIN:DAYLIGHT
TZOFFSETFROM:-0800
TZOFFSETTO:-0700
TZNAME:PDT
DTSTART:20250309T100000
END:DAYLIGHT
BEGIN:STANDARD
TZOFFSETFROM:-0700
TZOFFSETTO:-0800
TZNAME:PST
DTSTART:20251102T090000
END:STANDARD
BEGIN:DAYLIGHT
TZOFFSETFROM:-0800
TZOFFSETTO:-0700
TZNAME:PDT
DTSTART:20260308T100000
END:DAYLIGHT
BEGIN:STANDARD
TZOFFSETFROM:-0700
TZOFFSETTO:-0800
TZNAME:PST
DTSTART:20261101T090000
END:STANDARD
BEGIN:DAYLIGHT
TZOFFSETFROM:-0800
TZOFFSETTO:-0700
TZNAME:PDT
DTSTART:20270314T100000
END:DAYLIGHT
BEGIN:STANDARD
TZOFFSETFROM:-0700
TZOFFSETTO:-0800
TZNAME:PST
DTSTART:20271107T090000
END:STANDARD
END:VTIMEZONE
BEGIN:VEVENT
DTSTART;TZID=America/Los_Angeles:20260624T173000
DTEND;TZID=America/Los_Angeles:20260624T193000
DTSTAMP:20260424T043205
CREATED:20260324T182420Z
LAST-MODIFIED:20260330T231722Z
UID:10004675-1782322200-1782329400@bendoregon.gov
SUMMARY:Go Electric! Weatherization for Income-Qualified Households
DESCRIPTION:Join us for an interactive workshop to learn what weatherization is\, how it can lower energy bills and improve home comfort\, and what programs are available for income‑qualified households in our community. Hear directly from local organizations about free and low‑cost weatherization and energy efficiency services\, eligibility requirements\, and how to apply. Our panel includes: \n\nThomas Elzinga\, Central Electric Cooperative (CEC)\nJessica Taylor\, NeighborImpact\nSatya Austin-Opper\, The Environmental Center (TEC)\n\nThe workshop will take place in person at City Hall\, with a hybrid option available via Zoom (register here). In‑person attendance is encouraged\, and free food will be provided. The event will include a panel discussion followed by plenty of time for audience Q&A. Renters\, homeowners\, and anyone curious about reducing energy costs are encouraged to attend. \nThis workshop is Part 2 of the City’s Go Electric! Sparking Conversation Around Energy Efficiency series. The series is designed to help community members understand what energy efficiency and home electrification are\, what options are available locally\, how these technologies work\, and the impact they can have on comfort\, energy costs\, and the community. Learn about and sign up for our other Go Electric! workshops here.
URL:https://bendoregon.gov/event/weatherization-for-income-qualified-households/
LOCATION:Awbrey Butte Conference Room\, City Hall\, 710 NW Wall Street\, Bend\, United States
ORGANIZER;CN="Environment & Climate Team":MAILTO:climateaction@bendoregon.gov
END:VEVENT
END:VCALENDAR