BEGIN:VCALENDAR
VERSION:2.0
PRODID:-//City of Bend - ECPv6.15.20//NONSGML v1.0//EN
CALSCALE:GREGORIAN
METHOD:PUBLISH
X-WR-CALNAME:City of Bend
X-ORIGINAL-URL:https://bendoregon.gov
X-WR-CALDESC:Events for City of Bend
REFRESH-INTERVAL;VALUE=DURATION:PT1H
X-Robots-Tag:noindex
X-PUBLISHED-TTL:PT1H
BEGIN:VTIMEZONE
TZID:America/Los_Angeles
BEGIN:DAYLIGHT
TZOFFSETFROM:-0800
TZOFFSETTO:-0700
TZNAME:PDT
DTSTART:20190310T100000
END:DAYLIGHT
BEGIN:STANDARD
TZOFFSETFROM:-0700
TZOFFSETTO:-0800
TZNAME:PST
DTSTART:20191103T090000
END:STANDARD
BEGIN:DAYLIGHT
TZOFFSETFROM:-0800
TZOFFSETTO:-0700
TZNAME:PDT
DTSTART:20200308T100000
END:DAYLIGHT
BEGIN:STANDARD
TZOFFSETFROM:-0700
TZOFFSETTO:-0800
TZNAME:PST
DTSTART:20201101T090000
END:STANDARD
BEGIN:DAYLIGHT
TZOFFSETFROM:-0800
TZOFFSETTO:-0700
TZNAME:PDT
DTSTART:20210314T100000
END:DAYLIGHT
BEGIN:STANDARD
TZOFFSETFROM:-0700
TZOFFSETTO:-0800
TZNAME:PST
DTSTART:20211107T090000
END:STANDARD
END:VTIMEZONE
BEGIN:VEVENT
DTSTART;TZID=America/Los_Angeles:20200420T103000
DTEND;TZID=America/Los_Angeles:20200420T130000
DTSTAMP:20260424T170742
CREATED:20251205T175711Z
LAST-MODIFIED:20251205T175711Z
UID:10002308-1587378600-1587387600@bendoregon.gov
SUMMARY:US97 Parkway Plan Meeting
DESCRIPTION:A joint meeting of the Bend MPO Technical Advisory Committee and Policy Board is scheduled for April 20 from 10:30 am – 1 pm. During the meeting\, ODOT staff and the consultant team will review the updated materials for the US97 Parkway Plan including the investment strategy\, provide a project update and discuss next steps. The meeting agenda\, presentation and project materials are posted on the project webpage.  \nThis will be a virtual meeting. See Agenda for sign in details.  See Project Page for materials and presentation. \nPlease join the meeting from your computer\, tablet or smartphone. https://global.gotomeeting.com/join/511573149  You can also dial in using your phone: (408) 650-3123 Access Code: 511-573-149  New to GoToMeeting? Get the app now and be ready when your first meeting starts: https://global.gotomeeting.com/install/511573149  \nThe Bend MPO is devoted to creating a public meeting event\, materials and communications that are accessible. If additional formatting or a physical location are requested please contact Jovi Anderson at (541) 693-2122\, janderson@bendoregon.gov and/or TTY (541) 389-2245. Individuals who do not have access to a phone or computer can call-in or livestream the meeting at the Bend City Hall\, Board Room\, 710 NW Wall Street. Individuals who require this meeting location must contact the BMPO staff at least 24 hours prior to the event to reserve a space and ensure we provide adequate space to meet the social distancing provisions specified in Governor Brown’s Executive Order 20-12. Providing at least 3 days’ notice prior to the event or end of comment period will help ensure availability of services requested.   \n 
URL:https://bendoregon.gov/event/us97-parkway-plan-meeting/
LOCATION:Online Meeting\, Link to be provided with agenda\, United States
CATEGORIES:Metropolitan Transportation Plan
END:VEVENT
END:VCALENDAR