BEGIN:VCALENDAR
VERSION:2.0
PRODID:-//City of Bend - ECPv6.15.20//NONSGML v1.0//EN
CALSCALE:GREGORIAN
METHOD:PUBLISH
X-ORIGINAL-URL:https://bendoregon.gov
X-WR-CALDESC:Events for City of Bend
REFRESH-INTERVAL;VALUE=DURATION:PT1H
X-Robots-Tag:noindex
X-PUBLISHED-TTL:PT1H
BEGIN:VTIMEZONE
TZID:America/Los_Angeles
BEGIN:DAYLIGHT
TZOFFSETFROM:-0800
TZOFFSETTO:-0700
TZNAME:PDT
DTSTART:20250309T100000
END:DAYLIGHT
BEGIN:STANDARD
TZOFFSETFROM:-0700
TZOFFSETTO:-0800
TZNAME:PST
DTSTART:20251102T090000
END:STANDARD
BEGIN:DAYLIGHT
TZOFFSETFROM:-0800
TZOFFSETTO:-0700
TZNAME:PDT
DTSTART:20260308T100000
END:DAYLIGHT
BEGIN:STANDARD
TZOFFSETFROM:-0700
TZOFFSETTO:-0800
TZNAME:PST
DTSTART:20261101T090000
END:STANDARD
BEGIN:DAYLIGHT
TZOFFSETFROM:-0800
TZOFFSETTO:-0700
TZNAME:PDT
DTSTART:20270314T100000
END:DAYLIGHT
BEGIN:STANDARD
TZOFFSETFROM:-0700
TZOFFSETTO:-0800
TZNAME:PST
DTSTART:20271107T090000
END:STANDARD
END:VTIMEZONE
BEGIN:VEVENT
DTSTART;TZID=America/Los_Angeles:20260401T183000
DTEND;TZID=America/Los_Angeles:20260401T193000
DTSTAMP:20260421T051437
CREATED:20260302T205041Z
LAST-MODIFIED:20260302T205219Z
UID:10004528-1775068200-1775071800@bendoregon.gov
SUMMARY:Community Stop the Bleed Training
DESCRIPTION:Bend Fire & Rescue offers a free\, one-hour class designed to teach community members what to do to stop severe uncontrolled bleeding. This class will teach why severe uncontrolled bleeding is dangerous\, how to recognize it\, and more importantly how to control the bleeding quickly and effectively. \nLearn to be a lifesaver!\nCommunity Stop the Bleed trainings are offered the first Wednesday of each month starting at 6:30 p.m. at the Bend Fire Training Center (63377 NE Jamison Street\, Bend). \nPlease register as the class is limited to 20 participants. \nRegister online for an upcoming class
URL:https://bendoregon.gov/event/community-stop-the-bleed-training/2026-04-01/
LOCATION:Fire Training Center\, 63377 NE Jamison St.\, Bend\, 97701\, United States
CATEGORIES:Fire & Rescue Events & Community Training
END:VEVENT
BEGIN:VEVENT
DTSTART;TZID=America/Los_Angeles:20260401T173000
DTEND;TZID=America/Los_Angeles:20260401T183000
DTSTAMP:20260421T051437
CREATED:20260302T204133Z
LAST-MODIFIED:20260302T205439Z
UID:10004467-1775064600-1775068200@bendoregon.gov
SUMMARY:Community CPR Training
DESCRIPTION:Bend Fire & Rescue offers a a free\, non-certified hands-only CPR class for community members. This class is for workplaces\, schools and anybody in our community who wants to learn this critical lifesaving skill. The class will cover what to anticipate from 911 dispatch during the emergency\, how to properly and effectively perform CPR\, and what to expect when first responders arrive to help. \nLearn to be a lifesaver!\nCommunity CPR trainings are offered the first Wednesday of each month starting at 5:30 p.m. at the Bend Fire Training Center (63377 NE Jamison Street\, Bend). \nPlease register as the class is limited to 20 participants. \nRegister online for an upcoming class
URL:https://bendoregon.gov/event/community-cpr-training-43/2026-04-01/
LOCATION:Fire Training Center\, 63377 NE Jamison St.\, Bend\, 97701\, United States
CATEGORIES:Fire & Rescue Events & Community Training
END:VEVENT
BEGIN:VEVENT
DTSTART;TZID=America/Los_Angeles:20260312T140000
DTEND;TZID=America/Los_Angeles:20260312T160000
DTSTAMP:20260421T051437
CREATED:20260226T183314Z
LAST-MODIFIED:20260226T183449Z
UID:10004434-1773324000-1773331200@bendoregon.gov
SUMMARY:Bend Fire Civil Service Commission Meeting
DESCRIPTION:The Bend Fire & Rescue Civil Service Commission meets on an as-needed basis to ensure merit-based employment for the Fire Department by overseeing hiring\, promotions\, and disciplinary actions. They establish rules\, conduct examinations\, manage eligibility lists and act as a deciding body for employee disputes.\n\n \nCivil Service Commission meetings are held in person and online. Details in the agenda posted below.\n\n \nMeeting Agenda – March 12\, 2026\n\n \nQuestions?\nTrish Connolly\, Deputy Chief of Administration\nBend Fire & Rescue\n541-322-6314\n\n \nAccessible Meeting/Alternate Format Information\nThis meeting/event location is accessible. Sign and other language interpreter service\, assistive listening devices\, materials in alternate format such as Braille\, large print\, electronic formats\, language translations or any other accommodations are available upon advance request at no cost. Please email accessibility@bendoregon.gov or call 541-693-2198. Relay Users Dial 7-1-1. All requests are subject to vendor processing times and should be submitted 48-72 hours in advance of events.\n \nInformación sobre accesibilidad en reuniones\nHay accesibilidad disponible en esta reunión. Si se solicita con antelación\, se puede disponer de servicio de intérprete de lengua de señas\, dispositivos de ayuda auditiva\, materiales en formatos alternativos como Braille\, letra grande\, formatos electrónicos o cualquier otro tipo de adaptación. Póngase en contacto en correo electrónico accessibility@bendoregon.gov o número de teléfono 541-693-2198. Los usuarios del servicio de retransmisión deben marcar el 7-1-1. Por favor\, envíe sus solicitudes con 48-72 horas de antelación al evento; todas las solicitudes están sujetas a los tiempos de procesamiento del proveedor.
URL:https://bendoregon.gov/event/bend-fire-civil-service-commission-meeting/
LOCATION:Bend Fire Administration\, 1212 SW Simpson Ave\, Bend\, 97702\, United States
CATEGORIES:Fire & Rescue Events & Community Training
END:VEVENT
BEGIN:VEVENT
DTSTART;TZID=America/Los_Angeles:20260304T183000
DTEND;TZID=America/Los_Angeles:20260304T193000
DTSTAMP:20260421T051437
CREATED:20260302T205041Z
LAST-MODIFIED:20260302T205219Z
UID:10004527-1772649000-1772652600@bendoregon.gov
SUMMARY:Community Stop the Bleed Training
DESCRIPTION:Bend Fire & Rescue offers a free\, one-hour class designed to teach community members what to do to stop severe uncontrolled bleeding. This class will teach why severe uncontrolled bleeding is dangerous\, how to recognize it\, and more importantly how to control the bleeding quickly and effectively. \nLearn to be a lifesaver!\nCommunity Stop the Bleed trainings are offered the first Wednesday of each month starting at 6:30 p.m. at the Bend Fire Training Center (63377 NE Jamison Street\, Bend). \nPlease register as the class is limited to 20 participants. \nRegister online for an upcoming class
URL:https://bendoregon.gov/event/community-stop-the-bleed-training/2026-03-04/
LOCATION:Fire Training Center\, 63377 NE Jamison St.\, Bend\, 97701\, United States
CATEGORIES:Fire & Rescue Events & Community Training
END:VEVENT
BEGIN:VEVENT
DTSTART;TZID=America/Los_Angeles:20260304T173000
DTEND;TZID=America/Los_Angeles:20260304T183000
DTSTAMP:20260421T051437
CREATED:20260302T204133Z
LAST-MODIFIED:20260302T205439Z
UID:10004466-1772645400-1772649000@bendoregon.gov
SUMMARY:Community CPR Training
DESCRIPTION:Bend Fire & Rescue offers a a free\, non-certified hands-only CPR class for community members. This class is for workplaces\, schools and anybody in our community who wants to learn this critical lifesaving skill. The class will cover what to anticipate from 911 dispatch during the emergency\, how to properly and effectively perform CPR\, and what to expect when first responders arrive to help. \nLearn to be a lifesaver!\nCommunity CPR trainings are offered the first Wednesday of each month starting at 5:30 p.m. at the Bend Fire Training Center (63377 NE Jamison Street\, Bend). \nPlease register as the class is limited to 20 participants. \nRegister online for an upcoming class
URL:https://bendoregon.gov/event/community-cpr-training-43/2026-03-04/
LOCATION:Fire Training Center\, 63377 NE Jamison St.\, Bend\, 97701\, United States
CATEGORIES:Fire & Rescue Events & Community Training
END:VEVENT
END:VCALENDAR