BEGIN:VCALENDAR
VERSION:2.0
PRODID:-//City of Bend - ECPv6.15.20//NONSGML v1.0//EN
CALSCALE:GREGORIAN
METHOD:PUBLISH
X-ORIGINAL-URL:https://bendoregon.gov
X-WR-CALDESC:Events for City of Bend
REFRESH-INTERVAL;VALUE=DURATION:PT1H
X-Robots-Tag:noindex
X-PUBLISHED-TTL:PT1H
BEGIN:VTIMEZONE
TZID:America/Los_Angeles
BEGIN:DAYLIGHT
TZOFFSETFROM:-0800
TZOFFSETTO:-0700
TZNAME:PDT
DTSTART:20180311T100000
END:DAYLIGHT
BEGIN:STANDARD
TZOFFSETFROM:-0700
TZOFFSETTO:-0800
TZNAME:PST
DTSTART:20181104T090000
END:STANDARD
BEGIN:DAYLIGHT
TZOFFSETFROM:-0800
TZOFFSETTO:-0700
TZNAME:PDT
DTSTART:20190310T100000
END:DAYLIGHT
BEGIN:STANDARD
TZOFFSETFROM:-0700
TZOFFSETTO:-0800
TZNAME:PST
DTSTART:20191103T090000
END:STANDARD
BEGIN:DAYLIGHT
TZOFFSETFROM:-0800
TZOFFSETTO:-0700
TZNAME:PDT
DTSTART:20200308T100000
END:DAYLIGHT
BEGIN:STANDARD
TZOFFSETFROM:-0700
TZOFFSETTO:-0800
TZNAME:PST
DTSTART:20201101T090000
END:STANDARD
END:VTIMEZONE
BEGIN:VEVENT
DTSTART;TZID=America/Los_Angeles:20190509T000000
DTEND;TZID=America/Los_Angeles:20190512T235900
DTSTAMP:20260423T210707
CREATED:20251205T173950Z
LAST-MODIFIED:20251205T173950Z
UID:10002016-1557360000-1557705540@bendoregon.gov
SUMMARY:Come fly the Ford Tri-Motor Airplane!
DESCRIPTION:Come Fly on the Ford Tri-Motor\, May 9-12 at the Bend Municipal Airport!\nExperience the golden age of aviation. \nThere will be plane rides along with food and fun for everyone! \nADVANCE ONLINE PRICING:\nAdult: $72 \nChild (17 & Under): $52 \nWALK UP PRICING:\nAll Ages: $77 \nRIDES:\nThursday: 2 – 5 p.m. \nFriday-Sunday: 9 a.m. – 5 p.m. \nMORE INFO:\nflytheford.org \n1-877-952-5395
URL:https://bendoregon.gov/event/come-fly-the-ford-tri-motor-airplane/
LOCATION:Bend Municipal Airport\, 63132 Powell Butte Rd\, Bend\, 97701\, United States
CATEGORIES:General Events
END:VEVENT
END:VCALENDAR