BEGIN:VCALENDAR
VERSION:2.0
PRODID:-//City of Bend - ECPv6.15.20//NONSGML v1.0//EN
CALSCALE:GREGORIAN
METHOD:PUBLISH
X-WR-CALNAME:City of Bend
X-ORIGINAL-URL:https://bendoregon.gov
X-WR-CALDESC:Events for City of Bend
REFRESH-INTERVAL;VALUE=DURATION:PT1H
X-Robots-Tag:noindex
X-PUBLISHED-TTL:PT1H
BEGIN:VTIMEZONE
TZID:America/Los_Angeles
BEGIN:DAYLIGHT
TZOFFSETFROM:-0800
TZOFFSETTO:-0700
TZNAME:PDT
DTSTART:20130310T100000
END:DAYLIGHT
BEGIN:STANDARD
TZOFFSETFROM:-0700
TZOFFSETTO:-0800
TZNAME:PST
DTSTART:20131103T090000
END:STANDARD
BEGIN:DAYLIGHT
TZOFFSETFROM:-0800
TZOFFSETTO:-0700
TZNAME:PDT
DTSTART:20140309T100000
END:DAYLIGHT
BEGIN:STANDARD
TZOFFSETFROM:-0700
TZOFFSETTO:-0800
TZNAME:PST
DTSTART:20141102T090000
END:STANDARD
BEGIN:DAYLIGHT
TZOFFSETFROM:-0800
TZOFFSETTO:-0700
TZNAME:PDT
DTSTART:20150308T100000
END:DAYLIGHT
BEGIN:STANDARD
TZOFFSETFROM:-0700
TZOFFSETTO:-0800
TZNAME:PST
DTSTART:20151101T090000
END:STANDARD
END:VTIMEZONE
BEGIN:VEVENT
DTSTART;TZID=America/Los_Angeles:20140317T150000
DTEND;TZID=America/Los_Angeles:20140317T235900
DTSTAMP:20260421T054601
CREATED:20251204T011941Z
LAST-MODIFIED:20251204T011941Z
UID:10000795-1395068400-1395100740@bendoregon.gov
SUMMARY:Bend UGB Remand Task Force Meeting
DESCRIPTION:Meeting agenda and materials will be posted to the City’s website as soon as available. Please contact Damian Syrnyk\, City Senior Planner\, at 541-312-4919 or dsyrnyk@bendoregon.gov with further questions.
URL:https://bendoregon.gov/event/bend-ugb-remand-task-force-meeting-3/
LOCATION:Community Room\, Bend Metro Parks and Recreation District\, 799 SW Columbia Street\, Bend\, 97701\, United States
END:VEVENT
END:VCALENDAR