BEGIN:VCALENDAR
VERSION:2.0
PRODID:-//City of Bend - ECPv6.15.20//NONSGML v1.0//EN
CALSCALE:GREGORIAN
METHOD:PUBLISH
X-ORIGINAL-URL:https://bendoregon.gov
X-WR-CALDESC:Events for City of Bend
REFRESH-INTERVAL;VALUE=DURATION:PT1H
X-Robots-Tag:noindex
X-PUBLISHED-TTL:PT1H
BEGIN:VTIMEZONE
TZID:America/Los_Angeles
BEGIN:DAYLIGHT
TZOFFSETFROM:-0800
TZOFFSETTO:-0700
TZNAME:PDT
DTSTART:20190310T100000
END:DAYLIGHT
BEGIN:STANDARD
TZOFFSETFROM:-0700
TZOFFSETTO:-0800
TZNAME:PST
DTSTART:20191103T090000
END:STANDARD
BEGIN:DAYLIGHT
TZOFFSETFROM:-0800
TZOFFSETTO:-0700
TZNAME:PDT
DTSTART:20200308T100000
END:DAYLIGHT
BEGIN:STANDARD
TZOFFSETFROM:-0700
TZOFFSETTO:-0800
TZNAME:PST
DTSTART:20201101T090000
END:STANDARD
BEGIN:DAYLIGHT
TZOFFSETFROM:-0800
TZOFFSETTO:-0700
TZNAME:PDT
DTSTART:20210314T100000
END:DAYLIGHT
BEGIN:STANDARD
TZOFFSETFROM:-0700
TZOFFSETTO:-0800
TZNAME:PST
DTSTART:20211107T090000
END:STANDARD
END:VTIMEZONE
BEGIN:VEVENT
DTSTART;TZID=America/Los_Angeles:20200414T120000
DTEND;TZID=America/Los_Angeles:20200414T150000
DTSTAMP:20260423T130801
CREATED:20251205T175656Z
LAST-MODIFIED:20251205T175656Z
UID:10002303-1586865600-1586876400@bendoregon.gov
SUMMARY:Urban Renewal Advisory Board Meeting (URAB) #8
DESCRIPTION:The next Urban Renewal Advisory Board (URAB) meeting will take place virtually on Tuesday\, April 14 from Noon – 3p.m. An updated meeting agenda and packet are available on the URAB webpage. \nGoToMeeting: \n\n\nComputer Device Log–in: Please register in advance for the upcoming URAB #8 meeting using the following link: https://attendee.gotowebinar.com/register/3271831450579408142\n\nAfter registering\, you will receive a confirmation email containing information about joining the webinar from a computer. \n\nCall–in by phone: Call-in info for those who want to join audio with their phones instead of computer: +1 (631) 992-3221\n\nAccess code: 587-037-557\n\n\n\n  \nDue to public health concerns\, this meeting will be held entirely via remote conference. Members of the public will be able view and listen to the meeting live via the internet and by phone. The meeting video\, including audio\, will also be posted to the URAB webpage following the meeting. Meeting participation details are listed above and are posted to the URAB webpage. \nPublic comments are encouraged\, however they must be submitted in written format by emailing urab@bendoregon.gov prior to the start of the meeting. Comments are encouraged to be submitted no later than 9 am on Tuesday\, April 14th\, 2020 to ensure URAB members have time to adequately review. \nReasonable Accommodations to ensure ADA accessibility\, such as Sign language interpreter service\, materials in alternate formats such as Braille\, large print\, electronic formats\, or other accommodations are available upon advance request. Please contact Allison Platt at aplatt@bendoregon.gov or 541-322-6394. Providing at least 48 hours notice before the event will help ensure availability.  \nIn addition\, staff will be providing City Council with an update on the Core Area Project at their April 15 City Council meeting. Meeting agenda and information will be posted on the City Council Meetings and Agenda webpage.
URL:https://bendoregon.gov/event/urban-renewal-advisory-board-meeting-urab-8/
LOCATION:Go To Meeting\, United States
CATEGORIES:Core Area Project
END:VEVENT
END:VCALENDAR