BEGIN:VCALENDAR
VERSION:2.0
PRODID:-//City of Bend - ECPv6.15.20//NONSGML v1.0//EN
CALSCALE:GREGORIAN
METHOD:PUBLISH
X-ORIGINAL-URL:https://bendoregon.gov
X-WR-CALDESC:Events for City of Bend
REFRESH-INTERVAL;VALUE=DURATION:PT1H
X-Robots-Tag:noindex
X-PUBLISHED-TTL:PT1H
BEGIN:VTIMEZONE
TZID:America/Los_Angeles
BEGIN:DAYLIGHT
TZOFFSETFROM:-0800
TZOFFSETTO:-0700
TZNAME:PDT
DTSTART:20190310T100000
END:DAYLIGHT
BEGIN:STANDARD
TZOFFSETFROM:-0700
TZOFFSETTO:-0800
TZNAME:PST
DTSTART:20191103T090000
END:STANDARD
BEGIN:DAYLIGHT
TZOFFSETFROM:-0800
TZOFFSETTO:-0700
TZNAME:PDT
DTSTART:20200308T100000
END:DAYLIGHT
BEGIN:STANDARD
TZOFFSETFROM:-0700
TZOFFSETTO:-0800
TZNAME:PST
DTSTART:20201101T090000
END:STANDARD
BEGIN:DAYLIGHT
TZOFFSETFROM:-0800
TZOFFSETTO:-0700
TZNAME:PDT
DTSTART:20210314T100000
END:DAYLIGHT
BEGIN:STANDARD
TZOFFSETFROM:-0700
TZOFFSETTO:-0800
TZNAME:PST
DTSTART:20211107T090000
END:STANDARD
END:VTIMEZONE
BEGIN:VEVENT
DTSTART;TZID=America/Los_Angeles:20200224T180000
DTEND;TZID=America/Los_Angeles:20200224T235900
DTSTAMP:20260423T111814
CREATED:20251205T175512Z
LAST-MODIFIED:20251205T175512Z
UID:10002270-1582567200-1582588740@bendoregon.gov
SUMMARY:Empire Corridor Improvements Short Presentation
DESCRIPTION:Come and see new construction exhibits and meet members of the Empire Corridor Improvements Project Team to ask questions about the construction timeline\, detours\, and upcoming road closures.
URL:https://bendoregon.gov/event/empire-corridor-improvements-short-presentation-2/
LOCATION:Mt. View N.A. Board Meeting\, Higher Ground Common House\, Bend\, 97701\, United States
CATEGORIES:Empire Corridor Improvements
END:VEVENT
END:VCALENDAR