BEGIN:VCALENDAR
VERSION:2.0
PRODID:-//City of Bend - ECPv6.15.20//NONSGML v1.0//EN
CALSCALE:GREGORIAN
METHOD:PUBLISH
X-ORIGINAL-URL:https://bendoregon.gov
X-WR-CALDESC:Events for City of Bend
REFRESH-INTERVAL;VALUE=DURATION:PT1H
X-Robots-Tag:noindex
X-PUBLISHED-TTL:PT1H
BEGIN:VTIMEZONE
TZID:America/Los_Angeles
BEGIN:DAYLIGHT
TZOFFSETFROM:-0800
TZOFFSETTO:-0700
TZNAME:PDT
DTSTART:20180311T100000
END:DAYLIGHT
BEGIN:STANDARD
TZOFFSETFROM:-0700
TZOFFSETTO:-0800
TZNAME:PST
DTSTART:20181104T090000
END:STANDARD
BEGIN:DAYLIGHT
TZOFFSETFROM:-0800
TZOFFSETTO:-0700
TZNAME:PDT
DTSTART:20190310T100000
END:DAYLIGHT
BEGIN:STANDARD
TZOFFSETFROM:-0700
TZOFFSETTO:-0800
TZNAME:PST
DTSTART:20191103T090000
END:STANDARD
BEGIN:DAYLIGHT
TZOFFSETFROM:-0800
TZOFFSETTO:-0700
TZNAME:PDT
DTSTART:20200308T100000
END:DAYLIGHT
BEGIN:STANDARD
TZOFFSETFROM:-0700
TZOFFSETTO:-0800
TZNAME:PST
DTSTART:20201101T090000
END:STANDARD
END:VTIMEZONE
BEGIN:VEVENT
DTSTART;TZID=America/Los_Angeles:20190402T120000
DTEND;TZID=America/Los_Angeles:20190402T150000
DTSTAMP:20260423T190056
CREATED:20251205T173805Z
LAST-MODIFIED:20251205T173805Z
UID:10001982-1554206400-1554217200@bendoregon.gov
SUMMARY:Urban Renewal Advisory Board Meeting #2
DESCRIPTION:The agenda packet and supplemental information is now available on the URAB webpage. This meeting is intended to provide extensive information/documentation as it relates to the existing conditions of the project study area.  \nAgenda & Packet includes: \n\n\nURAB 1 Minutes \n\n\nUR 101 Fact Sheet  \n\n\nGuiding Principles- a summary of the project success discussion from URAB 1 \n\n\nConceptual Urban Design Framework: Analysis – summarizes key existing conditions and urban design opportunities and constraints \n\n\nDevelopment Feasibility Analysis Memos- identifies key economic drivers and indicators for (re)development in the study area \n\n\nDevelopment Feasibility \n\n\nEconomic Drivers \n\n\nDeveloper Interviews  \n\n\n\n\nThere are two additional items posted on the webpage for the board as well: \n\n\nExisting Conditions and Applicable Plans Report– This is a deeper dive into the study area’s existing physical\, social and economic conditions. The report details the state of infrastructure systems in the study area including sewer\, water\, stormwater and particularly transportation. In addition\, it discusses historical planning efforts and existing plans and policies such as the Comprehensive Plan and Bend Development Code that guide development within the study area. This report also discusses the City’s affordable housing program and partner agency plans relevant to the study area including such as the park\, school\, and library districts.   \n\n\nPublic Involvement Plan – This is meant to be a living document that guides public involvement efforts for this project.
URL:https://bendoregon.gov/event/urban-renewal-advisory-board-meeting-2/
LOCATION:Salvation Army Dining Hall\, 515 NE Dekalb Avenue\, Bend\, 97701\, United States
CATEGORIES:Core Area Project
END:VEVENT
END:VCALENDAR